BEGIN:VCALENDAR
VERSION:2.0
PRODID:-//LF EDGE: Building an Open Source Framework for the Edge. - ECPv6.15.20//NONSGML v1.0//EN
CALSCALE:GREGORIAN
METHOD:PUBLISH
X-ORIGINAL-URL:https://lfedge.org
X-WR-CALDESC:Events for LF EDGE: Building an Open Source Framework for the Edge.
REFRESH-INTERVAL;VALUE=DURATION:PT1H
X-Robots-Tag:noindex
X-PUBLISHED-TTL:PT1H
BEGIN:VTIMEZONE
TZID:Asia/Tokyo
BEGIN:STANDARD
TZOFFSETFROM:+0900
TZOFFSETTO:+0900
TZNAME:JST
DTSTART:20180101T000000
END:STANDARD
END:VTIMEZONE
BEGIN:VEVENT
DTSTART;VALUE=DATE:20190717
DTEND;VALUE=DATE:20190720
DTSTAMP:20260423T101032
CREATED:20190527T103956Z
LAST-MODIFIED:20190527T103956Z
UID:10000020-1563321600-1563580799@lfedge.org
SUMMARY:Open Source Summit Japan
DESCRIPTION:If you are attending Open Source Summit Japan on July 17-19 in Tokyo\, don’t miss out on the LF Edge presentations. \nOn Wednesday\, July 17\, there’s a BoF session that highlights leaders from LF Edge for a discussion about “Getting the Edge in Edge Computing.” Click here to add it to your schedule: https://sched.co/OVsK \nOn Friday\, July 19 at 11-11:40 am\, Tiejun Chen\, EdgeX Foundry member and Staff Engineer and Technical Leader at VMware\, will give an EdgeX Foundry presentation. The presentation titled\, “Build Edge Computing with EdgeX Foundry over Kubernates” will discuss how to enable Kubernetes to manage and orchestrate Edgex\, and even additional workload services\, and then put this solution into the context of IoT edge computing. Click here to add it to your schedule: https://sched.co/OVpo. \nOn Friday\, July 19 at 4:50 – 5:30 pm\, Hyde Sugiyama\, Akraino Edge Stack member and Chief Architect at Red Hat\, will present “Kubernates Native Infrastructure and CoreOS Operator Framework for 5G Edge Cloud Computing.” He’ll showcase several blueprints that are a work in progress such as KNI(Kubernetes Native Infrastructure for Edge) project for 5G edge computing\, in Akraino Edge Stack. This session will discuss K8s solutions and Telco Intelligent-edge possibilities by integrate with CoreOS Operator Framework that can manage CNFs\, statefull and other stateless container applications. Click here to add it to your schedule: https://sched.co/OVrM \nTo register for the event or to check out the schedule\, visit the event website.
URL:https://lfedge.org/event/open-source-summit-japan/
END:VEVENT
END:VCALENDAR