BEGIN:VCALENDAR
VERSION:2.0
PRODID:-//LF EDGE: Building an Open Source Framework for the Edge. - ECPv6.15.20//NONSGML v1.0//EN
CALSCALE:GREGORIAN
METHOD:PUBLISH
X-WR-CALNAME:LF EDGE: Building an Open Source Framework for the Edge.
X-ORIGINAL-URL:https://lfedge.org
X-WR-CALDESC:Events for LF EDGE: Building an Open Source Framework for the Edge.
REFRESH-INTERVAL;VALUE=DURATION:PT1H
X-Robots-Tag:noindex
X-PUBLISHED-TTL:PT1H
BEGIN:VTIMEZONE
TZID:America/Los_Angeles
BEGIN:DAYLIGHT
TZOFFSETFROM:-0800
TZOFFSETTO:-0700
TZNAME:PDT
DTSTART:20180311T100000
END:DAYLIGHT
BEGIN:STANDARD
TZOFFSETFROM:-0700
TZOFFSETTO:-0800
TZNAME:PST
DTSTART:20181104T090000
END:STANDARD
BEGIN:DAYLIGHT
TZOFFSETFROM:-0800
TZOFFSETTO:-0700
TZNAME:PDT
DTSTART:20190310T100000
END:DAYLIGHT
BEGIN:STANDARD
TZOFFSETFROM:-0700
TZOFFSETTO:-0800
TZNAME:PST
DTSTART:20191103T090000
END:STANDARD
BEGIN:DAYLIGHT
TZOFFSETFROM:-0800
TZOFFSETTO:-0700
TZNAME:PDT
DTSTART:20200308T100000
END:DAYLIGHT
BEGIN:STANDARD
TZOFFSETFROM:-0700
TZOFFSETTO:-0800
TZNAME:PST
DTSTART:20201101T090000
END:STANDARD
END:VTIMEZONE
BEGIN:VEVENT
DTSTART;VALUE=DATE:20190821
DTEND;VALUE=DATE:20190824
DTSTAMP:20260423T083833
CREATED:20190709T073305Z
LAST-MODIFIED:20190709T073305Z
UID:10000024-1566345600-1566604799@lfedge.org
SUMMARY:Open Source Summit/Embedded Linux Conference North America
DESCRIPTION:LF Edge will be on-site at Open Source Summit and Embedded Linux Conference North America on August 21-23 in Sans Diego. \nOn Wednesday\, August 21 from 4:20-4:55 pm\, Tingyu Zeng\, active member in the security working group for EdgeX Foundry and Senior Principal Software Engineer\, Security Lead for Dell Technologies\, will present “An Agile Approach to Threat Modeling for Securing Open Source Projects.” He will share the experience on security threat modeling and risk assessment during the development of EdgeX Foundry and how to apply them to their next project. Add this to your schedule here. \nThursday\, August 22: \nAt 10:25-10:30 am\, Arpit Joshipura\, General Manager\, Networking\, IoT & Edge Computing for the Linux Foundation\, will give a Keynote Lightning Talk about all things at the edge. Add it to your schedule here. \nAt 3-3:35 pm\, Malini Bhandaru\, EdgeX Foundry community member and Sr. Staff Engineer at VMware\, will present a session titled\, “IoT Action at the Edge – EdgeX Foundry 1.0 Released!” She will provide all of the details and features for the new anchor production ready release like more nimble connectors to ever more things were added\, including support for binary data formats for video and audio input\, microservice infrastructure improvements to auto detect status of prerequisite services for faster initialization\, security improvements\, more automated tests\, better documentation\, delivering production quality and more. Add this to your schedule here. \nFriday\, August 23: \nAt 11:30 am-12:05 pm\, Gavin Lu\, EdgeX Foundry community member and R&D Director for VMware\, will share insight in a session titled\, “Open and Neutral Edge Computing Architecture on Heterogeneous Devices.“With open source software and open standard APIs\, it is possible to build and maintain an open and neutral architecture on heterogeneous edge devices. Similar to IT infrastructure in data centers and clouds\, edge device architecture could be put into infrastructure\, app framework\, software service layers\, bottom up. Virtualization\, Linux\, containers\, EdgeX Foundry\, marketplaces\, all are leveraged to build this layered open and neutral architecture for extensible edge computing. A set of OSS projects are built as the reference implementation. Add this to your schedule here. \nAt 3:15-3:50 pm\, Yachen Wang\, LF Edge Governing Board member and Head of Wireless & IoT Networking at Tencent\, will give a presentation titled\, “LF Edge: Edge Open Source to Enable 5G\, IoT & AI Development.” In this presentation\, attendees will receive an overview of LF including background on its projects\, information on how the project aims to establish an open\, interoperable framework for edge computing that is independent of hardware\, silicon\, cloud\, or operating system and upcoming projects from LF Edge. Add this to your schedule here. \n 
URL:https://lfedge.org/event/open-source-summit-embedded-linux-conference-north-america/
END:VEVENT
END:VCALENDAR