BEGIN:VCALENDAR
VERSION:2.0
PRODID:-//LF EDGE: Building an Open Source Framework for the Edge. - ECPv6.15.20//NONSGML v1.0//EN
CALSCALE:GREGORIAN
METHOD:PUBLISH
X-ORIGINAL-URL:https://lfedge.org
X-WR-CALDESC:Events for LF EDGE: Building an Open Source Framework for the Edge.
REFRESH-INTERVAL;VALUE=DURATION:PT1H
X-Robots-Tag:noindex
X-PUBLISHED-TTL:PT1H
BEGIN:VTIMEZONE
TZID:America/Los_Angeles
BEGIN:DAYLIGHT
TZOFFSETFROM:-0800
TZOFFSETTO:-0700
TZNAME:PDT
DTSTART:20180311T100000
END:DAYLIGHT
BEGIN:STANDARD
TZOFFSETFROM:-0700
TZOFFSETTO:-0800
TZNAME:PST
DTSTART:20181104T090000
END:STANDARD
BEGIN:DAYLIGHT
TZOFFSETFROM:-0800
TZOFFSETTO:-0700
TZNAME:PDT
DTSTART:20190310T100000
END:DAYLIGHT
BEGIN:STANDARD
TZOFFSETFROM:-0700
TZOFFSETTO:-0800
TZNAME:PST
DTSTART:20191103T090000
END:STANDARD
BEGIN:DAYLIGHT
TZOFFSETFROM:-0800
TZOFFSETTO:-0700
TZNAME:PDT
DTSTART:20200308T100000
END:DAYLIGHT
BEGIN:STANDARD
TZOFFSETFROM:-0700
TZOFFSETTO:-0800
TZNAME:PST
DTSTART:20201101T090000
END:STANDARD
END:VTIMEZONE
BEGIN:VEVENT
DTSTART;VALUE=DATE:20190917
DTEND;VALUE=DATE:20190920
DTSTAMP:20260423T070023
CREATED:20190712T082819Z
LAST-MODIFIED:20190712T082819Z
UID:10000025-1568678400-1568937599@lfedge.org
SUMMARY:Edge Computing Congress
DESCRIPTION:On September 17-19\, Edge Computing Congress will be held at the IIec Conference Center in London. Melissa Evers-Hood\, LF Edge Governing Board Chair and Senior Director Google OS Division\, System Software Product at Intel\, will present a session titled “LF Edge: Building an Open Source Framework for the Edge\,” from 1:30-1:50 pm on Thursday\, September 19. In her talk\, attendees will learn: \n\nTo what extent is there an appetite to grow an active and engaged open source community for edge computing?\nHow can open source help consolidate some of the more fragmented work to date on the edge?\nAvoiding vendor lock in with the work of LF Edge in establishing an open\, interoperable framework for edge computing independent of hardware\, silicon\, cloud\, or operating system\n\nLF Edge members\, contributors and friends\, receive a 20 percent discount. Use the code LF20 when you register. For more information or to register for the event\, visit the event website.
URL:https://lfedge.org/event/edge-computing-congress/
END:VEVENT
END:VCALENDAR