BEGIN:VCALENDAR
VERSION:2.0
PRODID:-//LF EDGE: Building an Open Source Framework for the Edge. - ECPv6.15.20//NONSGML v1.0//EN
CALSCALE:GREGORIAN
METHOD:PUBLISH
X-ORIGINAL-URL:https://lfedge.org
X-WR-CALDESC:Events for LF EDGE: Building an Open Source Framework for the Edge.
REFRESH-INTERVAL;VALUE=DURATION:PT1H
X-Robots-Tag:noindex
X-PUBLISHED-TTL:PT1H
BEGIN:VTIMEZONE
TZID:America/Los_Angeles
BEGIN:DAYLIGHT
TZOFFSETFROM:-0800
TZOFFSETTO:-0700
TZNAME:PDT
DTSTART:20180311T100000
END:DAYLIGHT
BEGIN:STANDARD
TZOFFSETFROM:-0700
TZOFFSETTO:-0800
TZNAME:PST
DTSTART:20181104T090000
END:STANDARD
BEGIN:DAYLIGHT
TZOFFSETFROM:-0800
TZOFFSETTO:-0700
TZNAME:PDT
DTSTART:20190310T100000
END:DAYLIGHT
BEGIN:STANDARD
TZOFFSETFROM:-0700
TZOFFSETTO:-0800
TZNAME:PST
DTSTART:20191103T090000
END:STANDARD
BEGIN:DAYLIGHT
TZOFFSETFROM:-0800
TZOFFSETTO:-0700
TZNAME:PDT
DTSTART:20200308T100000
END:DAYLIGHT
BEGIN:STANDARD
TZOFFSETFROM:-0700
TZOFFSETTO:-0800
TZNAME:PST
DTSTART:20201101T090000
END:STANDARD
END:VTIMEZONE
BEGIN:VEVENT
DTSTART;VALUE=DATE:20191007
DTEND;VALUE=DATE:20191009
DTSTAMP:20260423T052452
CREATED:20190819T130429Z
LAST-MODIFIED:20190819T130429Z
UID:10000029-1570406400-1570579199@lfedge.org
SUMMARY:EdgeX Open
DESCRIPTION:LF Edge’s EdgeX Foundry community is planning a series of hackathons focused on addressing real-world use cases with solutions built from commercial content from sponsors unified by the EdgeX framework. \nThe inaugural EdgeX Open will be hosted at Tech Nexus in Chicago on October 7 and 8. The event will focus on the retail market and work stemmed from the Commerce (e.g. Retail) Working Group within the EdgeX Foundry project and the related Open Retail Initiative (ORI). \nParticipating developers (from students to retail end users and technology solution providers) will use their talents and creativity combined with the EdgeX framework\, commercial content from sponsoring companies and the rules of the event to develop a solution for either one of the specified customer-valued retail use-cases or an additional open category. \nEdgeX Open Categories: \n\nAdvanced loss prevention – Leverage EdgeX to correlate computer vision events with telemetry from sensors such as RFID and transaction logs data from Point-of-Sale systems for improved loss prevention/theft detection\nDynamic personalized retail experience – Take computer vision and sensor data to drive a better in-store customer experience based on individual shopper preference\nInventory management – Use data from sensors and scanners (hand-held and/or drone- based) to improve inventory accuracy\nOpen category – Get creative and take your pick of a retail-centric use case! Just make sure it would be deemed valuable by end users\n\nRegister Here: https://www.cvent.com/events/edgex-open-hackathon/registration-f4153ff71c68484c93115471db92f92b.aspx?fqp=true \nAn EdgeX Open webinar\, which provided an overview of the hackathon\, a quick introduction to the EdgeX framework\, tips and a Q&A\, was held Wednesday\, Sept. 25. \n \nSlides form the Webinar are available here: The EdgeX Open Webinar – Final 10.2.19 \nAgenda: \nMonday\, October 7\, 2019 \n8:30 – 10:00                          Registration\, Breakfast and Team Set-up \n10:00 – 10:30                        Opening Announcements\, Introductions & Challenges Presented \n10:30 – 11:00                         Sponsor presentations \n11:00                                       Hacking begins \nNoon                                       Working lunch \n2:00                                         Networking/Technical discussions/Open group conversations \n6PM                                         Whiskey Tasting (For participants 21 years old and over) \n7PM                                         Dinner / Cocktail / Jam Session \n10:00                                       Doors close for the night \n  \nTuesday\, October 8\, 2019  \n7:30 AM                                   Doors open \n8:00                                          Breakfast and start time \n9:00                                          Order of participant presentations to the Judges will be announced \nNoon                                         Working lunch \nNoon – 2:00                            Judges to meet with each team for a short solutions overview and quick Q&A* \n2:00 – 4:00                            Presentations to judges (Each team presents + Q&A)* \n4:00                                          Judges tally results \n5:00                                          Award Ceremony – Winners announced \n5:30                                          Closing ceremony and final thoughts \n6:00                                          End \n* Each team to get equal amount of time with judges and for presentation (specific time will depend on number of teams) \nTo learn more about how to get started with EdgeX Foundry\, check out this training doc: https://www.edgexfoundry.org/blog/2019/09/09/edgex-open-training/ \nOther training resources: \nPreloaded Developer Tools \n\nUbuntu 18.04 Download\nCode Environments\n\nVSCode Download —  snap install code –classic\n\nGolang Extension + golang tools\nDocker Extension\n“Better TOML” Extension\n\n\nGoLand – Download — sudo snap install goland –classic\n\nDocker Plugin\nTOML Plugin\n\n\nDocker CE — Download — sudo snap install docker\nGolang — Download — sudo snap install go –classic\nGit — Download — sudo snap install git-ubuntu –classic\nSnapcraft — sudo snap install snapcraft —classic\n\n\n\nPostman – Download — sudo snap install postman \nUseful links \n\nEdgeX Documentation: https://docs.edgexfoundry.org/\nEdgeX Deployment (Edinburgh 1.0.1)\nDocker: Developer Scripts: https://github.com/edgexfoundry/developer-scripts/tree/master/releases#edinburgh-release\nSnap: sudo snap install edgexfoundry\n\nSDKs \n\nApp Functions SDK: https://github.com/edgexfoundry/app-functions-sdk-go/blob/master/README.md\nDevice Service SDK: https://docs.edgexfoundry.org/Ch-GettingStartedSDK-Go.html\n\nApplication Services \n\nApp Service Configurable: https://github.com/edgexfoundry/app-service-configurable/blob/master/README.md\n\nDocker: docker pull nexus3.edgexfoundry.org:10004/docker-app-service-configurable:latest\n\n\n\nIf you have questions\, connect with us on the EdgeX Foundry Vertical-Solutions Slack Channel: https://slack.edgexfoundry.org/ \nPrizes: \nFirst Place: Team will receive USD$5\,000*. The first place team will be invited to a future industry event to present their winning solution. \nSecond Place: Team will receive USD$2\,500* \nThird Place:  Team will receive USD$1\,250*  \n* Prizes awarded in the form of a check\, to be distributed amongst all Team members \nThank you to our presenting sponsors!\n \n  \n \nThank you to our bronze sponsors!\n \n .   \n \n  \nLearn more about the EdgeX Foundry: \n\nEdgeX Edinburgh release page: https://www.edgexfoundry.org/release-1-0-edinburgh/\n\n\nEdgeX documentation: https://docs.edgexfoundry.org/Ch-QuickStart.html\nEdge Technical blog: https://www.edgexfoundry.org/blog/2019/07/11/edgex-foundry-ready-for-prime-time/\nEdgeX Contributors: https://www.lfedge.org/2019/08/21/edgex-foundry-contributors-and-users-share-thoughts-on-the-edinburgh-release-the-growing-ecosystem-and-more/
URL:https://lfedge.org/event/edgex-foundry-hackathon/
CATEGORIES:EdgeX Foundry,LF Edge
END:VEVENT
END:VCALENDAR