BEGIN:VCALENDAR
VERSION:2.0
PRODID:-//LF EDGE: Building an Open Source Framework for the Edge. - ECPv6.15.20//NONSGML v1.0//EN
CALSCALE:GREGORIAN
METHOD:PUBLISH
X-ORIGINAL-URL:https://lfedge.org
X-WR-CALDESC:Events for LF EDGE: Building an Open Source Framework for the Edge.
REFRESH-INTERVAL;VALUE=DURATION:PT1H
X-Robots-Tag:noindex
X-PUBLISHED-TTL:PT1H
BEGIN:VTIMEZONE
TZID:America/Los_Angeles
BEGIN:DAYLIGHT
TZOFFSETFROM:-0800
TZOFFSETTO:-0700
TZNAME:PDT
DTSTART:20180311T100000
END:DAYLIGHT
BEGIN:STANDARD
TZOFFSETFROM:-0700
TZOFFSETTO:-0800
TZNAME:PST
DTSTART:20181104T090000
END:STANDARD
BEGIN:DAYLIGHT
TZOFFSETFROM:-0800
TZOFFSETTO:-0700
TZNAME:PDT
DTSTART:20190310T100000
END:DAYLIGHT
BEGIN:STANDARD
TZOFFSETFROM:-0700
TZOFFSETTO:-0800
TZNAME:PST
DTSTART:20191103T090000
END:STANDARD
BEGIN:DAYLIGHT
TZOFFSETFROM:-0800
TZOFFSETTO:-0700
TZNAME:PDT
DTSTART:20200308T100000
END:DAYLIGHT
BEGIN:STANDARD
TZOFFSETFROM:-0700
TZOFFSETTO:-0800
TZNAME:PST
DTSTART:20201101T090000
END:STANDARD
END:VTIMEZONE
BEGIN:VEVENT
DTSTART;VALUE=DATE:20191104
DTEND;VALUE=DATE:20191108
DTSTAMP:20260423T035016
CREATED:20190726T161520Z
LAST-MODIFIED:20190726T161520Z
UID:10000027-1572825600-1573171199@lfedge.org
SUMMARY:EdgeX Foundry F2F TSC Meeting
DESCRIPTION:EdgeX Foundry is hosting a F2F Technical Steering Committee (TSC) Meeting on November 4-7 in Phoenix\, Arizona. Hosted by LF Edge member Intel\, the technical meeting is open to the community to attend via Zoom or in-person at Galvanize Phoenix\, located at 515 E. Grant St.\, Phoenix\, AZ 85004. \nPlease join the EdgeX community as we discuss a range of technical topics such as security\, the roadmap\, use cases and more! All attendees must RSVP – register here today! The deadline to register is October 21\, 2019. \nLearn more about the TSC meeting here: https://wiki.edgexfoundry.org/display/FA/4+Nov+-+7+Nov+2019%3A+Phoenix+Technical+Meeting 
URL:https://lfedge.org/event/edgex-foundry-f2f-tsc-meeting/
CATEGORIES:EdgeX Foundry
END:VEVENT
END:VCALENDAR