BEGIN:VCALENDAR
VERSION:2.0
PRODID:-//LF EDGE: Building an Open Source Framework for the Edge. - ECPv6.15.20//NONSGML v1.0//EN
CALSCALE:GREGORIAN
METHOD:PUBLISH
X-ORIGINAL-URL:https://lfedge.org
X-WR-CALDESC:Events for LF EDGE: Building an Open Source Framework for the Edge.
REFRESH-INTERVAL;VALUE=DURATION:PT1H
X-Robots-Tag:noindex
X-PUBLISHED-TTL:PT1H
BEGIN:VTIMEZONE
TZID:America/Los_Angeles
BEGIN:DAYLIGHT
TZOFFSETFROM:-0800
TZOFFSETTO:-0700
TZNAME:PDT
DTSTART:20180311T100000
END:DAYLIGHT
BEGIN:STANDARD
TZOFFSETFROM:-0700
TZOFFSETTO:-0800
TZNAME:PST
DTSTART:20181104T090000
END:STANDARD
BEGIN:DAYLIGHT
TZOFFSETFROM:-0800
TZOFFSETTO:-0700
TZNAME:PDT
DTSTART:20190310T100000
END:DAYLIGHT
BEGIN:STANDARD
TZOFFSETFROM:-0700
TZOFFSETTO:-0800
TZNAME:PST
DTSTART:20191103T090000
END:STANDARD
BEGIN:DAYLIGHT
TZOFFSETFROM:-0800
TZOFFSETTO:-0700
TZNAME:PDT
DTSTART:20200308T100000
END:DAYLIGHT
BEGIN:STANDARD
TZOFFSETFROM:-0700
TZOFFSETTO:-0800
TZNAME:PST
DTSTART:20201101T090000
END:STANDARD
END:VTIMEZONE
BEGIN:VEVENT
DTSTART;VALUE=DATE:20191118
DTEND;VALUE=DATE:20191122
DTSTAMP:20260423T035108
CREATED:20191107T133724Z
LAST-MODIFIED:20191107T133724Z
UID:10000040-1574035200-1574380799@lfedge.org
SUMMARY:KubeCon + CloudNativeCon North America
DESCRIPTION:LF Edge will be on-site at KubeCon + CloudNativeCon on November 18-21 in San Diego. Stop by the LF Edge booth at the Sponsor Showcase to learn more about Akraino\, Baetyl\, EdgeX Foundry\, Fledge\, Home Edge\, Open Glossary of Edge Computing and Project EVE. \nIf you’re headed to KubeCon\, we also invite you to an Akraino 5G MEC Hackathon on November 18 from 8:45 am – 5:30 pm. Hosted by LF Edge and Akraino\, the hackathon will take place at the Qualcomm campus. For more details\, click here. \nFor more information about KubeCon\, visit the conference website: https://events19.linuxfoundation.org/events/kubecon-cloudnativecon-north-america-2019/.
URL:https://lfedge.org/event/kubecon-cloudnativecon-north-america/
CATEGORIES:Akraino,EdgeX Foundry,Home Edge,LF Edge,Open Glossary of Edge Computing,Project EVE
END:VEVENT
END:VCALENDAR