BEGIN:VCALENDAR
VERSION:2.0
PRODID:-//LF EDGE: Building an Open Source Framework for the Edge. - ECPv6.15.20//NONSGML v1.0//EN
CALSCALE:GREGORIAN
METHOD:PUBLISH
X-ORIGINAL-URL:https://lfedge.org
X-WR-CALDESC:Events for LF EDGE: Building an Open Source Framework for the Edge.
REFRESH-INTERVAL;VALUE=DURATION:PT1H
X-Robots-Tag:noindex
X-PUBLISHED-TTL:PT1H
BEGIN:VTIMEZONE
TZID:America/Los_Angeles
BEGIN:DAYLIGHT
TZOFFSETFROM:-0800
TZOFFSETTO:-0700
TZNAME:PDT
DTSTART:20180311T100000
END:DAYLIGHT
BEGIN:STANDARD
TZOFFSETFROM:-0700
TZOFFSETTO:-0800
TZNAME:PST
DTSTART:20181104T090000
END:STANDARD
BEGIN:DAYLIGHT
TZOFFSETFROM:-0800
TZOFFSETTO:-0700
TZNAME:PDT
DTSTART:20190310T100000
END:DAYLIGHT
BEGIN:STANDARD
TZOFFSETFROM:-0700
TZOFFSETTO:-0800
TZNAME:PST
DTSTART:20191103T090000
END:STANDARD
BEGIN:DAYLIGHT
TZOFFSETFROM:-0800
TZOFFSETTO:-0700
TZNAME:PDT
DTSTART:20200308T100000
END:DAYLIGHT
BEGIN:STANDARD
TZOFFSETFROM:-0700
TZOFFSETTO:-0800
TZNAME:PST
DTSTART:20201101T090000
END:STANDARD
END:VTIMEZONE
BEGIN:VEVENT
DTSTART;VALUE=DATE:20191209
DTEND;VALUE=DATE:20191213
DTSTAMP:20260423T020517
CREATED:20191024T143554Z
LAST-MODIFIED:20191024T143554Z
UID:10000038-1575849600-1576195199@lfedge.org
SUMMARY:Edge Computing World
DESCRIPTION:LF Edge will be on-site at Edge Computing World on December 9-12 at the Computer History Museum in Silicon Valley. \nBalaji Ethirajulu\, LF Edge Marketing Outreach Chair\, will participate in a panel session for the Edge Implementation: Security & Networking Track\, titled “Managing Diversity at the Edge – from the device to the aggregation point” on Tuesday\, December 10 at 5 pm. Other speakers on the panel include rags Srinivasan with Kinetic Edge Alliance and Pierre-Damien Vaujour with Loft Orbital. \nRoman Shaposhnik\, LF Edge Governing Board Member and Leader of Project EVE and Co-founder/VP of Product and Strategy at Zededa as well as Aaron Williams\, active member of LF Edge and Project EVE and Developer Relations and Communities Lead at Zededa will lead a developer workshop on Wednesday\, December 11 from 4-5:15 pm. \nThe developer workshop titled\, “Get Started with LF Edge’s Project EVE and EdgeX Foundry\,” where participants will get hands on experience and learn how to get started with Project EVE\, EdgeX Foundry and PLC4x. \n .   \n  \nDescription: \nVirtualization is coming to the edge through a number of open source projects like LF Edge’s Project EVE (Edge Virtualization Engine) and EdgeX Foundry as well as the Apache PLC4x project.  Project EVE allows for the virtualization and freedom of running on any hardware with no touch updates.  EdgeX Foundry can run on top EVE and gives you a common open framework for building IoT applications.  And Apache’s PLC4x brings its set of libraries that allow for unified access across PLCs\, while using EVE as its runtime. \nIf you’re interested in attending\, use the code LFEDGE10 for a 10% discount. You can learn more about the conference and register here.
URL:https://lfedge.org/event/edge-computing-world/
CATEGORIES:EdgeX Foundry,LF Edge,Project EVE
END:VEVENT
END:VCALENDAR