BEGIN:VCALENDAR
VERSION:2.0
PRODID:-//LF EDGE: Building an Open Source Framework for the Edge. - ECPv6.15.20//NONSGML v1.0//EN
CALSCALE:GREGORIAN
METHOD:PUBLISH
X-ORIGINAL-URL:https://lfedge.org
X-WR-CALDESC:Events for LF EDGE: Building an Open Source Framework for the Edge.
REFRESH-INTERVAL;VALUE=DURATION:PT1H
X-Robots-Tag:noindex
X-PUBLISHED-TTL:PT1H
BEGIN:VTIMEZONE
TZID:America/Los_Angeles
BEGIN:DAYLIGHT
TZOFFSETFROM:-0800
TZOFFSETTO:-0700
TZNAME:PDT
DTSTART:20190310T100000
END:DAYLIGHT
BEGIN:STANDARD
TZOFFSETFROM:-0700
TZOFFSETTO:-0800
TZNAME:PST
DTSTART:20191103T090000
END:STANDARD
BEGIN:DAYLIGHT
TZOFFSETFROM:-0800
TZOFFSETTO:-0700
TZNAME:PDT
DTSTART:20200308T100000
END:DAYLIGHT
BEGIN:STANDARD
TZOFFSETFROM:-0700
TZOFFSETTO:-0800
TZNAME:PST
DTSTART:20201101T090000
END:STANDARD
BEGIN:DAYLIGHT
TZOFFSETFROM:-0800
TZOFFSETTO:-0700
TZNAME:PDT
DTSTART:20210314T100000
END:DAYLIGHT
BEGIN:STANDARD
TZOFFSETFROM:-0700
TZOFFSETTO:-0800
TZNAME:PST
DTSTART:20211107T090000
END:STANDARD
END:VTIMEZONE
BEGIN:VEVENT
DTSTART;VALUE=DATE:20200302
DTEND;VALUE=DATE:20200304
DTSTAMP:20260422T223813
CREATED:20200129T142712Z
LAST-MODIFIED:20200129T142712Z
UID:10000051-1583107200-1583279999@lfedge.org
SUMMARY:Akraino TSC F2F & Planning Meeting
DESCRIPTION:LF Edge’s Akraino Edge Stack is hosting its annual TSC F2F 2020 planning. In this meeting\, project leaders will discuss R3\, 2020 priorities for the community\, labs\, developer sync-up and more. Click here to check out the agenda. \nParticipants have the options to attend F2F at the Facebook office\, 1 Hacker Way\, Menlo Park\, CA 94025\, or via zoom teleconference. Whether attending in-person or online\, all attendees are required to register. \nTo register for the event\, click here: https://www.cvent.com/events/akraino-tsc-f2f-2020-planning-meeting/registration-534f731520834415828586593243bfe8.aspx?fqp=true  \n 
URL:https://lfedge.org/event/akraino-tsc-f2f-planning-meeting/
CATEGORIES:Akraino
END:VEVENT
END:VCALENDAR