BEGIN:VCALENDAR
VERSION:2.0
PRODID:-//LF EDGE: Building an Open Source Framework for the Edge. - ECPv6.15.20//NONSGML v1.0//EN
CALSCALE:GREGORIAN
METHOD:PUBLISH
X-ORIGINAL-URL:https://lfedge.org
X-WR-CALDESC:Events for LF EDGE: Building an Open Source Framework for the Edge.
REFRESH-INTERVAL;VALUE=DURATION:PT1H
X-Robots-Tag:noindex
X-PUBLISHED-TTL:PT1H
BEGIN:VTIMEZONE
TZID:America/Los_Angeles
BEGIN:DAYLIGHT
TZOFFSETFROM:-0800
TZOFFSETTO:-0700
TZNAME:PDT
DTSTART:20190310T100000
END:DAYLIGHT
BEGIN:STANDARD
TZOFFSETFROM:-0700
TZOFFSETTO:-0800
TZNAME:PST
DTSTART:20191103T090000
END:STANDARD
BEGIN:DAYLIGHT
TZOFFSETFROM:-0800
TZOFFSETTO:-0700
TZNAME:PDT
DTSTART:20200308T100000
END:DAYLIGHT
BEGIN:STANDARD
TZOFFSETFROM:-0700
TZOFFSETTO:-0800
TZNAME:PST
DTSTART:20201101T090000
END:STANDARD
BEGIN:DAYLIGHT
TZOFFSETFROM:-0800
TZOFFSETTO:-0700
TZNAME:PDT
DTSTART:20210314T100000
END:DAYLIGHT
BEGIN:STANDARD
TZOFFSETFROM:-0700
TZOFFSETTO:-0800
TZNAME:PST
DTSTART:20211107T090000
END:STANDARD
END:VTIMEZONE
BEGIN:VEVENT
DTSTART;VALUE=DATE:20200922
DTEND;VALUE=DATE:20200925
DTSTAMP:20260422T105945
CREATED:20200807T130452Z
LAST-MODIFIED:20200807T130452Z
UID:10000070-1600732800-1600991999@lfedge.org
SUMMARY:(Virtual) DevOps World
DESCRIPTION:If you’re interested in the future of DevOps\, the DevOps World virtual event is a chance to get inspired by experts and look at what the future holds. It caters to the full DevOps ecosystem and brings together thought leaders\, practitioners\, and community contributors from around the world\, providing attendees the opportunity to learn\, explore\, network virtually\, and transform the future of software delivery. \nLF Edge members from Intel will be giving presentations about EdgeX Foundry. Please see below and register today! \n \nTuesday\, September 22\, 11:00 a.m.-11:30 a.m.: How Do I Mock It? \nOpen Source Examples of Unit Tests for a Jenkins Shared Library\n\n\nSpeakers: Emilio Reyes\, Intel Corporation; Ernesto Ojeda\, Intel; Lisa Ranjbar\, Intel Corporation\n\nWhen you first embark on the unit testing journey\, one of the largest hurdles to overcome is understanding how to properly mock out the objects you pass into your functions. In this talk EdgeX Foundry will present its open source Jenkins shared library to explain strategies organizations can use to create mocks and write unit tests.\n\n\n\n\nThursday\, September 24\, 7:30 a.m.-8:00 a.m.\nStop Crawling and Start Walking: Transitioning from Continuous Integration to Continuous Delivery\n\n\nSpeaker: Lisa Ranjbar\, Intel Corporation\n\nAt the beginning of 2019 my team and I joined and started contributing to an open source community\, EdgeX Foundry. When we joined the community\, we were happy to see that there was a Jenkins instance with jobs for continuous integration. In this talk we will talk about the culture and technology transitions we made to move the community forward to always being ready to release. In this talk we will outline the strategy used to upgrade the overall release flow and how we moved the project from Jenkins freestyle jobs to multibranch pipeline jobs.\n\n\n\n\nLearn more about DevOps World here: https://www.cloudbees.com/devops-world
URL:https://lfedge.org/event/virtual-devops-world/
CATEGORIES:EdgeX Foundry
END:VEVENT
END:VCALENDAR