BEGIN:VCALENDAR
VERSION:2.0
PRODID:-//LF EDGE: Building an Open Source Framework for the Edge. - ECPv6.15.20//NONSGML v1.0//EN
CALSCALE:GREGORIAN
METHOD:PUBLISH
X-ORIGINAL-URL:https://lfedge.org
X-WR-CALDESC:Events for LF EDGE: Building an Open Source Framework for the Edge.
REFRESH-INTERVAL;VALUE=DURATION:PT1H
X-Robots-Tag:noindex
X-PUBLISHED-TTL:PT1H
BEGIN:VTIMEZONE
TZID:America/Los_Angeles
BEGIN:DAYLIGHT
TZOFFSETFROM:-0800
TZOFFSETTO:-0700
TZNAME:PDT
DTSTART:20190310T100000
END:DAYLIGHT
BEGIN:STANDARD
TZOFFSETFROM:-0700
TZOFFSETTO:-0800
TZNAME:PST
DTSTART:20191103T090000
END:STANDARD
BEGIN:DAYLIGHT
TZOFFSETFROM:-0800
TZOFFSETTO:-0700
TZNAME:PDT
DTSTART:20200308T100000
END:DAYLIGHT
BEGIN:STANDARD
TZOFFSETFROM:-0700
TZOFFSETTO:-0800
TZNAME:PST
DTSTART:20201101T090000
END:STANDARD
BEGIN:DAYLIGHT
TZOFFSETFROM:-0800
TZOFFSETTO:-0700
TZNAME:PDT
DTSTART:20210314T100000
END:DAYLIGHT
BEGIN:STANDARD
TZOFFSETFROM:-0700
TZOFFSETTO:-0800
TZNAME:PST
DTSTART:20211107T090000
END:STANDARD
END:VTIMEZONE
BEGIN:VEVENT
DTSTART;VALUE=DATE:20201109
DTEND;VALUE=DATE:20201114
DTSTAMP:20260420T144823
CREATED:20201007T163522Z
LAST-MODIFIED:20201007T163522Z
UID:10000074-1604880000-1605311999@lfedge.org
SUMMARY:(Virtual) EdgeX Foundry  TSC Virtual F2F - Ireland Release
DESCRIPTION:LF Edge’s EdgeX Foundry will be hosting a virtual F2F on November 9-13. The community is invited to learn more about project updates\, business topics/trends\, architecture roadmap\, training and an “un-conference.” \nThe conference will be held as ½ day sessions (4 hours) using the Zoom conference tool.  The daily schedule is below. \n\n\n\n\n\n\n\n\n\nDate\n\n\nTime\n\n\nComments\n\n\n\n\n\n11/09\n6-10AM PST\nBusiness Topics and Architecture Tee up\n\n\n11/10\n6-10AM PST\nCadence & Process Check\, Architecture Topics\n\n\n11/11\n4-7:30PM PST\nAsia time friendly – making sure we cover topics important to China\, Taiwan\, etc. \nIreland Scoping Part 1\n\n\n11/12\n6-10AM PST\nIreland and beyond Scoping Part 2 & Adopter input/reaction\n\n\n11/13\n6-10AM PST\nlessons learned\, training and “un-conference”\n\n\n\nRegistration is required. Register here: https://events.linuxfoundation.org/edgex-foundry-ireland-release-planning-conference-fall/. \n 
URL:https://lfedge.org/event/virtual-edgex-foundry-tsc-virtual-f2f-ireland-release/
CATEGORIES:EdgeX Foundry
END:VEVENT
END:VCALENDAR