BEGIN:VCALENDAR
VERSION:2.0
PRODID:-//LF EDGE: Building an Open Source Framework for the Edge. - ECPv6.15.20//NONSGML v1.0//EN
CALSCALE:GREGORIAN
METHOD:PUBLISH
X-WR-CALNAME:LF EDGE: Building an Open Source Framework for the Edge.
X-ORIGINAL-URL:https://lfedge.org
X-WR-CALDESC:Events for LF EDGE: Building an Open Source Framework for the Edge.
REFRESH-INTERVAL;VALUE=DURATION:PT1H
X-Robots-Tag:noindex
X-PUBLISHED-TTL:PT1H
BEGIN:VTIMEZONE
TZID:America/Los_Angeles
BEGIN:DAYLIGHT
TZOFFSETFROM:-0800
TZOFFSETTO:-0700
TZNAME:PDT
DTSTART:20190310T100000
END:DAYLIGHT
BEGIN:STANDARD
TZOFFSETFROM:-0700
TZOFFSETTO:-0800
TZNAME:PST
DTSTART:20191103T090000
END:STANDARD
BEGIN:DAYLIGHT
TZOFFSETFROM:-0800
TZOFFSETTO:-0700
TZNAME:PDT
DTSTART:20200308T100000
END:DAYLIGHT
BEGIN:STANDARD
TZOFFSETFROM:-0700
TZOFFSETTO:-0800
TZNAME:PST
DTSTART:20201101T090000
END:STANDARD
BEGIN:DAYLIGHT
TZOFFSETFROM:-0800
TZOFFSETTO:-0700
TZNAME:PDT
DTSTART:20210314T100000
END:DAYLIGHT
BEGIN:STANDARD
TZOFFSETFROM:-0700
TZOFFSETTO:-0800
TZNAME:PST
DTSTART:20211107T090000
END:STANDARD
END:VTIMEZONE
BEGIN:VEVENT
DTSTART;VALUE=DATE:20201202
DTEND;VALUE=DATE:20201205
DTSTAMP:20260420T075355
CREATED:20201102T114351Z
LAST-MODIFIED:20201102T114351Z
UID:10000078-1606867200-1607126399@lfedge.org
SUMMARY:(Virtual) Open Source Summit Japan
DESCRIPTION:The Linux Foundation is excited to present Open Source Summit Japan as a virtual event on December 2-6. Attendees will have the ability to network with others\, attend presentations with live Q&A\, interact with sponsors and more! Registration is US $50. To register\, visit the main conference website here: https://events.linuxfoundation.org/open-source-summit-japan/register/. \nLF Edge will be featured in a few sessions at OSS Japan. Please see below and add these sessions to your schedule! \nOn Wednesday\, December 2 at 9:40 – 9:50 am JST\, Arpit Joshipura\, General Manager of Networking\, IoT and Edge\, will give a keynote about trends in open source edge computing and networking.  Add it to your schedule here. \nOn Wednesday\, December 2 at 13:20 – 14:10 JST\, LF Edge member Yin Ding\, Akraino contributor and Chief Virtualization Technologist at Futurewei\, will present\, “Building Edge AI Stack and AI-aaS in Cloud Native Way.” \nThis talk will describe how to build Cloud Native Edge Stack service framework based on Kubedge (a CNCF Sandbox project)\, providing an edge-cloud collaborative AI service. It shares the details of edge AI stack architecture and design\, edge-cloud application deployment\, collaborative model management\, dataset management etc. The work is part of Akraino KubeEdge Service Blueprint open source project. A demo will be also detailed to show case mobile device offloading\, collaborative training (aka federated learning) can be easily achieved using the stack. The future roadmap will also be shared. Add it to your schedule here. \nOn Thursday\, December 3 at 13:10 – 14:00 JST\, join Vikram Siwach\, LF Edge Governing Board member and Product Manager at MobiledgeX\, Jason Shepherd\, LF Edge Governing Board member and VP of Ecosystem at Zededa\, and Molly Wojcik\, Chair of State of the Edge’s Landscape project and Marketing Director at Section\, will present a panel titled\, “Demystifying the Edge with the New LF Edge Taxonomy and Framework.”  \nEdge computing represents a new paradigm in which compute and storage are located at the edge of the network\, as close as both necessary and feasible to the location where data is generated and consumed\, and where actions are taken in the physical world. The optimal location of these compute resources is determined by balancing the benefits of centralization and decentralization. Founded in 2019\, LF Edge’s mission is to establish an open\, interoperable framework for edge computing independent of hardware\, silicon\, cloud or operating system. With more than 75 members\, LF Edge hosts eight projects building foundational enablers for edge computing in addition to providing research on this emerging market: Akraino Edge Stack\, Baetyl\, EdgeX Foundry\, Fledge\, Home Edge\, Open Horizon\, Project EVE and State of the Edge. Recently\, LF Edge developed a white paper that outlined the a new edge taxonomy that clears up market confusion by breaking the continuum down based on inherent technical and logistical tradeoffs rather than using ambiguous terms. The taxonomy also comprehends a balance of interests spanning the cloud\, telco\, IT\, OT\, IoT\, mobile and consumer markets. Add it to your schedule here. \nOn Friday\, December 4 at 10:40 – 11:30 am JST\, join Arpit Joshipura\, General Manager of Networking\, IoT and Edge\, for a session titled “Uniting the Edge for tomorrow’s demands.” \nEdge devices are slated to exceed 20 billion by 2020. For IoT to succeed in these devices\, the currently fragmented edge market needs to be able to work together to identify and protect against problematic security vulnerabilities and advance a common\, constructive vision for the future of the industry. The Linux Foundation’s LF Edge is part of this solution. It is an umbrella organization to establish an open\, interoperable framework for edge computing independent of hardware\, silicon\, cloud\, or operating system\, will help ensure greater harmonization to accelerate deployment and bridge the gaps in the open source technologies to support the emerging Edge use cases. The Edge use cases from Industrial\, Enterprise and Consumer spanning multiple edges and domains are being addressed by the LF Edge Projects including Akraino Edge Stack\, Baetyl\, EdgeX Foundry\, Fledge\, Home Edge\, Open Horizon\, Project EVE and State of the Edge. The projects within LF Edge are focused to address specific needs of the industry and complement each other to support a cohesive solution. Add it to your schedule here. \nSee the complete schedule for Open Source Summit Japan here. \n  \n 
URL:https://lfedge.org/event/virtual-open-source-summit-japan/
CATEGORIES:Akraino,LF Edge,Open Glossary of Edge Computing,State of the Edge
END:VEVENT
END:VCALENDAR