BEGIN:VCALENDAR
VERSION:2.0
PRODID:-//LF EDGE: Building an Open Source Framework for the Edge. - ECPv6.15.20//NONSGML v1.0//EN
CALSCALE:GREGORIAN
METHOD:PUBLISH
X-WR-CALNAME:LF EDGE: Building an Open Source Framework for the Edge.
X-ORIGINAL-URL:https://lfedge.org
X-WR-CALDESC:Events for LF EDGE: Building an Open Source Framework for the Edge.
REFRESH-INTERVAL;VALUE=DURATION:PT1H
X-Robots-Tag:noindex
X-PUBLISHED-TTL:PT1H
BEGIN:VTIMEZONE
TZID:America/Los_Angeles
BEGIN:DAYLIGHT
TZOFFSETFROM:-0800
TZOFFSETTO:-0700
TZNAME:PDT
DTSTART:20190310T100000
END:DAYLIGHT
BEGIN:STANDARD
TZOFFSETFROM:-0700
TZOFFSETTO:-0800
TZNAME:PST
DTSTART:20191103T090000
END:STANDARD
BEGIN:DAYLIGHT
TZOFFSETFROM:-0800
TZOFFSETTO:-0700
TZNAME:PDT
DTSTART:20200308T100000
END:DAYLIGHT
BEGIN:STANDARD
TZOFFSETFROM:-0700
TZOFFSETTO:-0800
TZNAME:PST
DTSTART:20201101T090000
END:STANDARD
BEGIN:DAYLIGHT
TZOFFSETFROM:-0800
TZOFFSETTO:-0700
TZNAME:PDT
DTSTART:20210314T100000
END:DAYLIGHT
BEGIN:STANDARD
TZOFFSETFROM:-0700
TZOFFSETTO:-0800
TZNAME:PST
DTSTART:20211107T090000
END:STANDARD
END:VTIMEZONE
BEGIN:VTIMEZONE
TZID:America/New_York
BEGIN:DAYLIGHT
TZOFFSETFROM:-0500
TZOFFSETTO:-0400
TZNAME:EDT
DTSTART:20190310T070000
END:DAYLIGHT
BEGIN:STANDARD
TZOFFSETFROM:-0400
TZOFFSETTO:-0500
TZNAME:EST
DTSTART:20191103T060000
END:STANDARD
BEGIN:DAYLIGHT
TZOFFSETFROM:-0500
TZOFFSETTO:-0400
TZNAME:EDT
DTSTART:20200308T070000
END:DAYLIGHT
BEGIN:STANDARD
TZOFFSETFROM:-0400
TZOFFSETTO:-0500
TZNAME:EST
DTSTART:20201101T060000
END:STANDARD
BEGIN:DAYLIGHT
TZOFFSETFROM:-0500
TZOFFSETTO:-0400
TZNAME:EDT
DTSTART:20210314T070000
END:DAYLIGHT
BEGIN:STANDARD
TZOFFSETFROM:-0400
TZOFFSETTO:-0500
TZNAME:EST
DTSTART:20211107T060000
END:STANDARD
END:VTIMEZONE
BEGIN:VEVENT
DTSTART;VALUE=DATE:20200703
DTEND;VALUE=DATE:20200920
DTSTAMP:20260423T210006
CREATED:20200615T172930Z
LAST-MODIFIED:20200615T172930Z
UID:10000065-1593734400-1600559999@lfedge.org
SUMMARY:EdgeX Foundry Challenge Shanghai 2020
DESCRIPTION:LF Edge and EdgeX Foundry present the EdgeX Challenge Shanghai 2020 on July 3\, 2020. Whether you are in Shanghai or will be joining virtually\, we encourage you to join the community to tackle technical challenges at this hackathon. The hackathon is dedicated to building a learning and sharing platform for the Internet of Things and edge computing. Based on EdgeX Foundry\, it uses shared technology investment to solve difficult technical problems\, gathers participants with innovative ideas and strong technical energy\, and targets common pain points in the Internet of Things industry. For retail\, manufacturing\, energy\, urban parks and other fields\, use EdgeX Foundry to solve industry problems. Participants will effectively combine technology and industry by creating\, developing and optimizing solutions\, while tempering technology and empowering real application scenarios. \nChallenges include two tracks: \n\nCommercial (Retail\, Hospitality\, Banking\, Education\, etc.）\n\nUsing EdgeX\, based on IOT\, AI and data analysis technologies\, build innovative applications related to consumer\, merchandise\, and store. \nUse EdgeX to build multi-sensor correlated IoT applications.\nUse EdgeX to build applications beneficial to defeat COVID-19.\nCombine EdgeX with 5G\, blockchain or service robot to build innovative applications\n\n\nIndustrial (Factories\, Power\, Oil/Gas\, Utilities）\n\nFor the multi-edge node scenario\, build an SDN + containerized IT solution based on EdgeX\nIn discrete or process (with lower latency requirements) manufacturing\, use EdgeX to achieve low latency fault detection and response on the production line\nIn Discrete Manufacturing\, use EdgeX to Detect Product Defects Online\nUsing EdgeX to collect data\, proceed with energy management of electric/gas/coal/oil\, to improve energy efficiency. (Such as: building a thermodynamic model\, completing heat meter data collection and automatic valve opening control to optimize heating efficiency)\nUsing EdgeX to realize remote unmanned monitoring of multiple data sources and automatic control of the on-site environment.\n\n\n\nThe EdgeX Foundry Challenge Shanghai is hosted by the Shanghai Science and Technology Commission\, LF Edge and  co-hosted by Intel and InnoSpace. Sponsors include China Chain Store & Franchise Association (CCFA)\, Dell Technology\, IOTech and Tencent\, Thundersoft and VMware. Learn more and register here: http://edgexchallenge.shanghaimakers.cn/ 
URL:https://lfedge.org/event/edgex-foundry-challenge-shanghai-2020/
CATEGORIES:EdgeX Foundry,LF Edge
END:VEVENT
BEGIN:VEVENT
DTSTART;TZID=America/New_York:20200804T130000
DTEND;TZID=America/New_York:20200804T143000
DTSTAMP:20260423T210006
CREATED:20200729T174442Z
LAST-MODIFIED:20200729T174442Z
UID:10000069-1596546000-1596551400@lfedge.org
SUMMARY:Webinar: Leveraging AI and Edge Compute in a Shifting Retail Landscape
DESCRIPTION:Join LF Edge members HP and Intel in a webinar on Tuesday\, August 4 at 1 pm EDT titled\, “Leveraging AI and Edge Compute in a Shifting Retail Landscape.” The webinar features Sandip Kamat\, Global Product Management & Strategy\, HP; Chris Timmins\, Director of Marketing\, Intel; and Anoop Kumar Gopinatha\, Chief Architect\, Martech\, Starbucks. \nWith COVID-19 driving societal change at a breakneck pace never seen before\, today’s retailers need agility more than ever in order to adapt to the ever shifting landscape.  Deploying the open\, extensible platforms of today which are designed to quickly enable real-time\, edge based AI while minimizing the need for custom interfaces and code that quickly becomes a technology deficit can help retailers stay ahead of the curve. \nThis informative virtual event features a discussion of experiences and business results leveraging edge compute within organizations.  Additionally\, attendees will hear how HP is embracing Intel technology\, working with the EdgeX Foundry forum and HP to deliver innovations in hardware agility. \nPlease join us as we explore how edge compute is enabling retailers to bring real time access and insights directly to the store associates for immediate actioning while significantly shrinking time to market for new AI solutions and reducing development costs to deliver improved agility to meet the dramatically changing retail landscape. \nA Deeper Look… \nWorking together\, Intel and HP have joined the EdgeX Foundry to accelerate the innovation that retailers and their development teams can bring the market by harnessing the power of edge computing. \nRegister here: https://event.on24.com/eventRegistration/EventLobbyServlet?target=lobby20.jsp&eventid=2344872&sessionid=1&partnerref=linkedin&key=6515A805F13EC529EC48314C9153456B&eventuserid=333589585
URL:https://lfedge.org/event/webinar-leveraging-ai-and-edge-compute-in-a-shifting-retail-landscape/
CATEGORIES:EdgeX Foundry,Webinar
END:VEVENT
END:VCALENDAR