BEGIN:VCALENDAR
VERSION:2.0
PRODID:-//LF EDGE: Building an Open Source Framework for the Edge. - ECPv6.15.20//NONSGML v1.0//EN
CALSCALE:GREGORIAN
METHOD:PUBLISH
X-ORIGINAL-URL:https://lfedge.org
X-WR-CALDESC:Events for LF EDGE: Building an Open Source Framework for the Edge.
REFRESH-INTERVAL;VALUE=DURATION:PT1H
X-Robots-Tag:noindex
X-PUBLISHED-TTL:PT1H
BEGIN:VTIMEZONE
TZID:America/Los_Angeles
BEGIN:DAYLIGHT
TZOFFSETFROM:-0800
TZOFFSETTO:-0700
TZNAME:PDT
DTSTART:20190310T100000
END:DAYLIGHT
BEGIN:STANDARD
TZOFFSETFROM:-0700
TZOFFSETTO:-0800
TZNAME:PST
DTSTART:20191103T090000
END:STANDARD
BEGIN:DAYLIGHT
TZOFFSETFROM:-0800
TZOFFSETTO:-0700
TZNAME:PDT
DTSTART:20200308T100000
END:DAYLIGHT
BEGIN:STANDARD
TZOFFSETFROM:-0700
TZOFFSETTO:-0800
TZNAME:PST
DTSTART:20201101T090000
END:STANDARD
BEGIN:DAYLIGHT
TZOFFSETFROM:-0800
TZOFFSETTO:-0700
TZNAME:PDT
DTSTART:20210314T100000
END:DAYLIGHT
BEGIN:STANDARD
TZOFFSETFROM:-0700
TZOFFSETTO:-0800
TZNAME:PST
DTSTART:20211107T090000
END:STANDARD
END:VTIMEZONE
BEGIN:VEVENT
DTSTART;VALUE=DATE:20201222
DTEND;VALUE=DATE:20201223
DTSTAMP:20260423T143838
CREATED:20201216T161425Z
LAST-MODIFIED:20201216T161425Z
UID:10000082-1608595200-1608681599@lfedge.org
SUMMARY:EdgeX Foundry China Day 2020 (Virtual)
DESCRIPTION:EdgeX Foundry China Day 2020 will be a virtual event  on December 22-23. It is hosted by VMware and Intel in collaboration with LF Edge\, ThunderSoft\, Jiangxing Intelligence\, EMQTT and IOTech. Learn more: https://g.gd-share.cn/p/x9jsxwoi \nCheck out the speaking lineup and agenda:  \n \n  \n \n \n  \nFor more information or to register\, click here: https://g.gd-share.cn/p/cqoaxv5w.
URL:https://lfedge.org/event/edgex-foundry-china-day-2020-virtual/
CATEGORIES:EdgeX Foundry
END:VEVENT
END:VCALENDAR