BEGIN:VCALENDAR
VERSION:2.0
PRODID:-//LF EDGE: Building an Open Source Framework for the Edge. - ECPv6.15.20//NONSGML v1.0//EN
CALSCALE:GREGORIAN
METHOD:PUBLISH
X-ORIGINAL-URL:https://lfedge.org
X-WR-CALDESC:Events for LF EDGE: Building an Open Source Framework for the Edge.
REFRESH-INTERVAL;VALUE=DURATION:PT1H
X-Robots-Tag:noindex
X-PUBLISHED-TTL:PT1H
BEGIN:VTIMEZONE
TZID:America/Los_Angeles
BEGIN:DAYLIGHT
TZOFFSETFROM:-0800
TZOFFSETTO:-0700
TZNAME:PDT
DTSTART:20190310T100000
END:DAYLIGHT
BEGIN:STANDARD
TZOFFSETFROM:-0700
TZOFFSETTO:-0800
TZNAME:PST
DTSTART:20191103T090000
END:STANDARD
BEGIN:DAYLIGHT
TZOFFSETFROM:-0800
TZOFFSETTO:-0700
TZNAME:PDT
DTSTART:20200308T100000
END:DAYLIGHT
BEGIN:STANDARD
TZOFFSETFROM:-0700
TZOFFSETTO:-0800
TZNAME:PST
DTSTART:20201101T090000
END:STANDARD
BEGIN:DAYLIGHT
TZOFFSETFROM:-0800
TZOFFSETTO:-0700
TZNAME:PDT
DTSTART:20210314T100000
END:DAYLIGHT
BEGIN:STANDARD
TZOFFSETFROM:-0700
TZOFFSETTO:-0800
TZNAME:PST
DTSTART:20211107T090000
END:STANDARD
END:VTIMEZONE
BEGIN:VEVENT
DTSTART;VALUE=DATE:20200629
DTEND;VALUE=DATE:20200703
DTSTAMP:20260423T052452
CREATED:20200503T100016Z
LAST-MODIFIED:20200503T100016Z
UID:10000060-1593388800-1593734399@lfedge.org
SUMMARY:Open Source Summit North America (Virtual Event)
DESCRIPTION:Open Source Summit North America\, which takes place on June 29-July 2\, will take place as a virtual event for the first time ever this year. OSS NA is the leading conference for developers\, architects\, and other technologists – as well as open source community and industry leaders – to collaborate\, share information\, learn about the latest technologies and gain a competitive advantage by using innovative open solutions. \nLF Edge and projects will be featured in several sessions including: \nMonday\, June 29: \n2:35 – 3:25 pm: Uniting the Edge for Tomorrow’s Demands – Arpit Joshipura\, General Manager of Networking\, IoT and Edge for the Linux Foundation \nThe Linux Foundation’s LF Edge is part of this solution. It is an umbrella organization to establish an open\, interoperable framework for edge computing independent of hardware\, silicon\, cloud\, or operating system\, will help ensure greater harmonization to accelerate deployment and bridge the gaps in the open source technologies to support the emerging Edge use cases. \nThe Edge use cases from Industrial\, Enterprise and Consumer spanning multiple edges and domains are being addressed by the LF Edge Projects including Akraino Edge Stack\, Baetyl\, EdgeX Foundry\, Fledge\, Home Edge\, Open Glossary of Edge Computing and Project EVE. The projects within LF Edge are focused to address specific needs of the industry and complement each other to support a cohesive solution. Add this to your schedule: https://sched.co/c3VD \nTuesday\, June 30:\n2:35 – 3:25 pm: Enterprise Edge Computing with Project EVE – Jason Shepherd\, Vice President of Ecosystem\, ZEDEDA \nThis talk approaches enterprise edge computing and discusses the definition\, the challenges and a solution with LF Edge’s Project Eve. The enterprise edge is different from traditional data center environments:\n– Physical distribution and resulting physical and network security\n– Service lifetime of 7 or more years\n– Security requirements for cyber-physical systems\nYet system designers want to follow cloud native and devops approaches for deploying apps at the edge. \nThis is why we created the Edge Virtualization Engine\, or Project EVE. This talk covers:\n– Requirements of the enterprise edge environment\n– Overview of Project EVE\n– Zero Trust\n– Zero Touch for the enterprise edge\n– Providing freedom of any app\, any network (technology)\, and any hardware.\n– A brief demo \nAdd this to your schedule: https://sched.co/c3Wc \nTo learn more about the conference or to register\, visit: https://events.linuxfoundation.org/open-source-summit-north-america/
URL:https://lfedge.org/event/open-source-summit-north-america-virtual-event/
CATEGORIES:Akraino,Baetyl,EdgeX Foundry,Fledge,Home Edge,LF Edge,Open Horizon,Project EVE,State of the Edge
END:VEVENT
BEGIN:VEVENT
DTSTART;VALUE=DATE:20200630
DTEND;VALUE=DATE:20200702
DTSTAMP:20260423T052452
CREATED:20200218T101957Z
LAST-MODIFIED:20200218T101957Z
UID:10000052-1593475200-1593647999@lfedge.org
SUMMARY:IIOT World (Virtual Event)
DESCRIPTION:IIOT World Day is the largest Industrial IoT virtual event in the world. This year\, it takes place over two days on June 30 and July 1. \nOn July 1\, Arpit Joshipura\, General Manager for Networking\, IoT and Edge at The Linux Foundation\, will be giving a presentation titled\, “Uniting the Edge for Tomorrow’s Demands.” In this presentation\, he will discuss LF Edge\, an umbrella organization to establish an open\, interoperable framework for edge computing independent of hardware\, silicon\, cloud\, or operating system. LF Edve will help ensure greater harmonization to accelerate deployment and bridge the gaps in the open source technologies to support the emerging Edge use cases. \nThe Edge use cases from Industrial\, Enterprise and Consumer spanning multiple edges and domains are being addressed by the LF Edge Projects including Akraino Edge Stack\, Baetyl\, EdgeX Foundry\, Fledge\, Home Edge\, Open Glossary of Edge Computing and Project EVE. The projects within LF Edge are focused to address specific needs of the industry and complement each other to support a cohesive solution. \nIn this talk\, attendees will learn: \n\nEdge use cases being addressed to satisfy the industry needs\nCollaboration between the LF Edge Projects and scope of each project\nHow to engage and contribute to each project\n\nAdditionally\, on July 1\, Jim White\, CTO of IOTech and Vice Chair of LF Edge’s EdgeX Foundry TSC\, will be giving a presentation titled\, “Using Open Source Technology to Manage IoT/Edge Solutions.” In this session\, he will discuss  how open source technology is changing the edge application landscape and it can help change edge management too.  In this session\, attendees will learn how open source technology is offering solutions to deploy\, orchestrate and manage your edge that are: \n\n\n\n\nMore cost effective through community collaboration\, friendlier licensing\, faster innovation\, and multi-vendor support\nAddress the unique needs of the edge as they are developed by edge experts\nFashioned by an ecosystem gravitating toward best of breed solutions that benefit all.\n\nTo learn more about the conference\, visit the website at https://iiotday.com/.
URL:https://lfedge.org/event/iiot-world/
CATEGORIES:Akraino,Baetyl,EdgeX Foundry,Fledge,Home Edge,LF Edge,Open Glossary of Edge Computing,Project EVE
END:VEVENT
END:VCALENDAR