BEGIN:VCALENDAR
VERSION:2.0
PRODID:-//LF EDGE: Building an Open Source Framework for the Edge. - ECPv6.15.20//NONSGML v1.0//EN
CALSCALE:GREGORIAN
METHOD:PUBLISH
X-WR-CALNAME:LF EDGE: Building an Open Source Framework for the Edge.
X-ORIGINAL-URL:https://lfedge.org
X-WR-CALDESC:Events for LF EDGE: Building an Open Source Framework for the Edge.
REFRESH-INTERVAL;VALUE=DURATION:PT1H
X-Robots-Tag:noindex
X-PUBLISHED-TTL:PT1H
BEGIN:VTIMEZONE
TZID:America/Los_Angeles
BEGIN:DAYLIGHT
TZOFFSETFROM:-0800
TZOFFSETTO:-0700
TZNAME:PDT
DTSTART:20200308T100000
END:DAYLIGHT
BEGIN:STANDARD
TZOFFSETFROM:-0700
TZOFFSETTO:-0800
TZNAME:PST
DTSTART:20201101T090000
END:STANDARD
BEGIN:DAYLIGHT
TZOFFSETFROM:-0800
TZOFFSETTO:-0700
TZNAME:PDT
DTSTART:20210314T100000
END:DAYLIGHT
BEGIN:STANDARD
TZOFFSETFROM:-0700
TZOFFSETTO:-0800
TZNAME:PST
DTSTART:20211107T090000
END:STANDARD
BEGIN:DAYLIGHT
TZOFFSETFROM:-0800
TZOFFSETTO:-0700
TZNAME:PDT
DTSTART:20220313T100000
END:DAYLIGHT
BEGIN:STANDARD
TZOFFSETFROM:-0700
TZOFFSETTO:-0800
TZNAME:PST
DTSTART:20221106T090000
END:STANDARD
END:VTIMEZONE
BEGIN:VEVENT
DTSTART;TZID=America/Los_Angeles:20210120T160000
DTEND;TZID=America/Los_Angeles:20210120T173000
DTSTAMP:20260425T222244
CREATED:20210105T131932Z
LAST-MODIFIED:20210105T131932Z
UID:10000083-1611158400-1611163800@lfedge.org
SUMMARY:IoT Hub Meetup: LF Edge - Building an Open Source Framework for the Edge
DESCRIPTION:The IoT Hub Meetup Group is hosting a meetup on Wednesday\, January 20 from 4-5:30 pm PST.  Jason Shepard\, LF Edge Governing Board Member and VP of Ecosystem at Zededa\, will be sharing the background to why LF Edge exists\, the projects currently supported by LF Edge\, and his (and LF Edge’s) perspective on what the future looks like for open-source in IoT and IoT-enabled industries. \nThis meetup is online and free to attend. Register here: https://www.meetup.com/IoT-Hub/events/275566777/
URL:https://lfedge.org/event/iot-hub-meetup-lf-edge-building-an-open-source-framework-for-the-edge/
CATEGORIES:EdgeX Foundry,LF Edge,Project EVE
END:VEVENT
END:VCALENDAR