BEGIN:VCALENDAR
VERSION:2.0
PRODID:-//LF EDGE: Building an Open Source Framework for the Edge. - ECPv6.15.20//NONSGML v1.0//EN
CALSCALE:GREGORIAN
METHOD:PUBLISH
X-WR-CALNAME:LF EDGE: Building an Open Source Framework for the Edge.
X-ORIGINAL-URL:https://lfedge.org
X-WR-CALDESC:Events for LF EDGE: Building an Open Source Framework for the Edge.
REFRESH-INTERVAL;VALUE=DURATION:PT1H
X-Robots-Tag:noindex
X-PUBLISHED-TTL:PT1H
BEGIN:VTIMEZONE
TZID:Europe/Berlin
BEGIN:DAYLIGHT
TZOFFSETFROM:+0100
TZOFFSETTO:+0200
TZNAME:CEST
DTSTART:20200329T010000
END:DAYLIGHT
BEGIN:STANDARD
TZOFFSETFROM:+0200
TZOFFSETTO:+0100
TZNAME:CET
DTSTART:20201025T010000
END:STANDARD
BEGIN:DAYLIGHT
TZOFFSETFROM:+0100
TZOFFSETTO:+0200
TZNAME:CEST
DTSTART:20210328T010000
END:DAYLIGHT
BEGIN:STANDARD
TZOFFSETFROM:+0200
TZOFFSETTO:+0100
TZNAME:CET
DTSTART:20211031T010000
END:STANDARD
BEGIN:DAYLIGHT
TZOFFSETFROM:+0100
TZOFFSETTO:+0200
TZNAME:CEST
DTSTART:20220327T010000
END:DAYLIGHT
BEGIN:STANDARD
TZOFFSETFROM:+0200
TZOFFSETTO:+0100
TZNAME:CET
DTSTART:20221030T010000
END:STANDARD
END:VTIMEZONE
BEGIN:VEVENT
DTSTART;VALUE=DATE:20211208
DTEND;VALUE=DATE:20211209
DTSTAMP:20260425T111456
CREATED:20211104T090030Z
LAST-MODIFIED:20211104T090030Z
UID:10000097-1638921600-1639007999@lfedge.org
SUMMARY:EVE Design Summit
DESCRIPTION:Update as of November 23\, 2021: Unfortunately due to the increasing COVID outbreaks in the region and related travel restrictions\, the broader EVE Design Summit in Berlin has been postponed to 2022. The local EVE working group will still convene together on December 8; for more information please see the registration link. \n  \nWednesday 8 December  •  0900 – 1700\n MINDSPACE Berlin\, Krausenstraße 9-10\, 10117 Berlin\, Germany\nWebsite – Map \nRegistration https://info.zededa.com/eve-design-summit-2021-registration  \n\nThe inaugural EVE Design Summit is taking place December 8 in Berlin\, Germany. Top EVE developers and contributors will collaborate with a few invited community members to plan the way forward. Due to COVID travel restrictions\, this first gathering is more of a “mini” summit. \nMany thanks to our hosts/sponsors:
URL:https://lfedge.org/event/eve-design-summit/
CATEGORIES:Project EVE
END:VEVENT
END:VCALENDAR