BEGIN:VCALENDAR
VERSION:2.0
PRODID:-//LF EDGE: Building an Open Source Framework for the Edge. - ECPv6.15.20//NONSGML v1.0//EN
CALSCALE:GREGORIAN
METHOD:PUBLISH
X-WR-CALNAME:LF EDGE: Building an Open Source Framework for the Edge.
X-ORIGINAL-URL:https://lfedge.org
X-WR-CALDESC:Events for LF EDGE: Building an Open Source Framework for the Edge.
REFRESH-INTERVAL;VALUE=DURATION:PT1H
X-Robots-Tag:noindex
X-PUBLISHED-TTL:PT1H
BEGIN:VTIMEZONE
TZID:America/Los_Angeles
BEGIN:DAYLIGHT
TZOFFSETFROM:-0800
TZOFFSETTO:-0700
TZNAME:PDT
DTSTART:20190310T100000
END:DAYLIGHT
BEGIN:STANDARD
TZOFFSETFROM:-0700
TZOFFSETTO:-0800
TZNAME:PST
DTSTART:20191103T090000
END:STANDARD
BEGIN:DAYLIGHT
TZOFFSETFROM:-0800
TZOFFSETTO:-0700
TZNAME:PDT
DTSTART:20200308T100000
END:DAYLIGHT
BEGIN:STANDARD
TZOFFSETFROM:-0700
TZOFFSETTO:-0800
TZNAME:PST
DTSTART:20201101T090000
END:STANDARD
BEGIN:DAYLIGHT
TZOFFSETFROM:-0800
TZOFFSETTO:-0700
TZNAME:PDT
DTSTART:20210314T100000
END:DAYLIGHT
BEGIN:STANDARD
TZOFFSETFROM:-0700
TZOFFSETTO:-0800
TZNAME:PST
DTSTART:20211107T090000
END:STANDARD
END:VTIMEZONE
BEGIN:VEVENT
DTSTART;TZID=America/Los_Angeles:20201015T073000
DTEND;TZID=America/Los_Angeles:20201015T083000
DTSTAMP:20260423T163507
CREATED:20201007T164837Z
LAST-MODIFIED:20201007T164837Z
UID:10000075-1602747000-1602750600@lfedge.org
SUMMARY:(Webinar) Home Edge: How Your Home Devices Get Deployed in An Edge Computing Services Ecosystem
DESCRIPTION:Join us for the next webinar in the “On the Edge with LF Edge” series on Thursday\, October 15 at 7:30 am PDT. \n\n\nHome Edge Project\, which was originally contributed by Samsung Electronics\, concentrates on driving and enabling a robust\, reliable\, and intelligent home edge computing open source framework\, platform and ecosystem running on a variety of devices at daily home lives. To accelerate the deployment of the edge computing services ecosystem successfully\, Home Edge will provide users with an interoperable\, flexible\, and scalable edge computing services platform with a set of APIs that can also run with libraries and runtimes.\n\n\n\nSuresh LC\, Chief Engineer at Samsung\, will present:\n\n\n1.  Home Edge Overview\n2. Key features in the next  release details\n3. Roadmap in 2021 and beyond\n4. How to get involved\n5. Landscape of IoT Home Edge\n\n\n\nRegistration is required. To register\, click here: https://bit.ly/3lhD1OW.
URL:https://lfedge.org/event/webinar-home-edge-how-your-home-devices-get-deployed-in-an-edge-computing-services-ecosystem/
CATEGORIES:Home Edge,Webinar
END:VEVENT
END:VCALENDAR