BEGIN:VCALENDAR
VERSION:2.0
PRODID:-//LF EDGE: Building an Open Source Framework for the Edge. - ECPv6.15.20//NONSGML v1.0//EN
CALSCALE:GREGORIAN
METHOD:PUBLISH
X-ORIGINAL-URL:https://lfedge.org
X-WR-CALDESC:Events for LF EDGE: Building an Open Source Framework for the Edge.
REFRESH-INTERVAL;VALUE=DURATION:PT1H
X-Robots-Tag:noindex
X-PUBLISHED-TTL:PT1H
BEGIN:VTIMEZONE
TZID:America/Los_Angeles
BEGIN:DAYLIGHT
TZOFFSETFROM:-0800
TZOFFSETTO:-0700
TZNAME:PDT
DTSTART:20190310T100000
END:DAYLIGHT
BEGIN:STANDARD
TZOFFSETFROM:-0700
TZOFFSETTO:-0800
TZNAME:PST
DTSTART:20191103T090000
END:STANDARD
BEGIN:DAYLIGHT
TZOFFSETFROM:-0800
TZOFFSETTO:-0700
TZNAME:PDT
DTSTART:20200308T100000
END:DAYLIGHT
BEGIN:STANDARD
TZOFFSETFROM:-0700
TZOFFSETTO:-0800
TZNAME:PST
DTSTART:20201101T090000
END:STANDARD
BEGIN:DAYLIGHT
TZOFFSETFROM:-0800
TZOFFSETTO:-0700
TZNAME:PDT
DTSTART:20210314T100000
END:DAYLIGHT
BEGIN:STANDARD
TZOFFSETFROM:-0700
TZOFFSETTO:-0800
TZNAME:PST
DTSTART:20211107T090000
END:STANDARD
END:VTIMEZONE
BEGIN:VEVENT
DTSTART;TZID=America/Los_Angeles:20200123T090000
DTEND;TZID=America/Los_Angeles:20200123T100000
DTSTAMP:20260422T223813
CREATED:20200117T111420Z
LAST-MODIFIED:20200117T111420Z
UID:10000044-1579770000-1579773600@lfedge.org
SUMMARY:LF Edge: Building an Open Framework for the Edge
DESCRIPTION:Please join us for an LF Edge Webinar\, in partnership with Topio Networks\, on Thursday\, January 23 at 9 am PST/12 pm EST. Arpit Joshipura\, the Linux Foundation General Manager for Networking\, Edge and IoT\, will share use cases from Industrial\, Enterprise and Consumer sectors. He will highlight some key challenges for the industry spanning multiple edges and domains\, and how these are being addressed by the LF Edge Projects including Akraino Edge Stack\, Baetyl\, EdgeX Foundry\, Fledge\, Home Edge\, Open Glossary of Edge Computing and Project EVE. \nAttendees will learn: \n\nEdge use cases identified in the market\nKey Challenge being addressed to satisfy industry needs\nHow LF Edge is working with the industry to address these challenges\n\nRegister here: https://www.topionetworks.com/events/5e1ce874105eb572410b2069 \n 
URL:https://lfedge.org/event/lf-edge-building-an-open-framework-for-the-edge/
CATEGORIES:LF Edge
END:VEVENT
BEGIN:VEVENT
DTSTART;VALUE=DATE:20200129
DTEND;VALUE=DATE:20200131
DTSTAMP:20260422T223813
CREATED:20200126T092342Z
LAST-MODIFIED:20200126T092342Z
UID:10000050-1580256000-1580428799@lfedge.org
SUMMARY:Edge Computing in Oil & Gas Conference
DESCRIPTION:The deployment of Edge Computing is widely viewed as a game changer\, presenting oil and gas companies with the opportunity to achieve end-to-end informational\, workforce and commercial transformation. Come join us at the 2nd Annual Edge Computing in Oil & Gas Conference on January 29-30 in Houston. \nLF Edge TAC Member and Fledge contributor Bill Hunt\, co-founder and CTO of Dianomic\, will present LF Edge and Fledge on January 30 at 10:50 p.m. He’ll share how edge computing open source projects like LF Edge impacts the oil and gas industry through Fledge\, an open source framework and community for the industrial edge focused on critical operations\, predictive maintenance\, situational awareness and safety. Open Source at the edge is a core enabler of industry 4.0 and you’ll learn use cases\, best practices and more in this talk.  \nIf you are interested in attending the show\, use our discount code “LF20″ and save 20%.  Click here to register: https://www.edgecomputing-oilandgas.com/page/1417278/register?promo=LF20
URL:https://lfedge.org/event/edge-computing-in-oil-gas-conference/
CATEGORIES:Fledge,LF Edge
END:VEVENT
END:VCALENDAR