BEGIN:VCALENDAR
VERSION:2.0
PRODID:-//LF EDGE: Building an Open Source Framework for the Edge. - ECPv6.15.20//NONSGML v1.0//EN
CALSCALE:GREGORIAN
METHOD:PUBLISH
X-WR-CALNAME:LF EDGE: Building an Open Source Framework for the Edge.
X-ORIGINAL-URL:https://lfedge.org
X-WR-CALDESC:Events for LF EDGE: Building an Open Source Framework for the Edge.
REFRESH-INTERVAL;VALUE=DURATION:PT1H
X-Robots-Tag:noindex
X-PUBLISHED-TTL:PT1H
BEGIN:VTIMEZONE
TZID:Asia/Tokyo
BEGIN:STANDARD
TZOFFSETFROM:+0900
TZOFFSETTO:+0900
TZNAME:JST
DTSTART:20190101T000000
END:STANDARD
END:VTIMEZONE
BEGIN:VTIMEZONE
TZID:America/Los_Angeles
BEGIN:DAYLIGHT
TZOFFSETFROM:-0800
TZOFFSETTO:-0700
TZNAME:PDT
DTSTART:20190310T100000
END:DAYLIGHT
BEGIN:STANDARD
TZOFFSETFROM:-0700
TZOFFSETTO:-0800
TZNAME:PST
DTSTART:20191103T090000
END:STANDARD
BEGIN:DAYLIGHT
TZOFFSETFROM:-0800
TZOFFSETTO:-0700
TZNAME:PDT
DTSTART:20200308T100000
END:DAYLIGHT
BEGIN:STANDARD
TZOFFSETFROM:-0700
TZOFFSETTO:-0800
TZNAME:PST
DTSTART:20201101T090000
END:STANDARD
BEGIN:DAYLIGHT
TZOFFSETFROM:-0800
TZOFFSETTO:-0700
TZNAME:PDT
DTSTART:20210314T100000
END:DAYLIGHT
BEGIN:STANDARD
TZOFFSETFROM:-0700
TZOFFSETTO:-0800
TZNAME:PST
DTSTART:20211107T090000
END:STANDARD
END:VTIMEZONE
BEGIN:VEVENT
DTSTART;TZID=Asia/Tokyo:20200206T190000
DTEND;TZID=Asia/Tokyo:20200206T210000
DTSTAMP:20260422T205718
CREATED:20200117T125844Z
LAST-MODIFIED:20200117T125844Z
UID:10000047-1581015600-1581022800@lfedge.org
SUMMARY:EdgeX Foundry Tokyo Meetup
DESCRIPTION:If you’re in Tokyo\, LF Edge invites you to become a part of the EdgeX Foundry community\, which kicks off with a Meetup on Thursday\, February 6 from 7-9 pm at EMC Japan Corporation Seminar Room (Shinjuku Mines Tower 20F). Jonas Werner from Dell EMC Japan and Masao Taniguchi from NEC will lead the discussion. Please see the agenda below: \nAgenda \n19:00-19:30\nKickoff \n\nPurpose of User Group\, EdgeX Introduction\,\nChallenges of IoT and Edge computing and Benefits of\nEdgeX-EdgeX Case\n\n19:30-20:00\nEdgeX Demo \n\nEdgeX Quick-start (VM and Raspberry Pi)\n\n20:00-21:00 \n\nDiscussion and social gathering\n\nThis is the first event of EdgeX Foundry Tokyo Meetup. To register for the event\, click here: https://www.meetup.com/ja-JP/EdgeX-Foundry-Tokyo/events/267901288/
URL:https://lfedge.org/event/edgex-foundry-tokyo-meetup/
CATEGORIES:EdgeX Foundry
END:VEVENT
BEGIN:VEVENT
DTSTART;VALUE=DATE:20200225
DTEND;VALUE=DATE:20200228
DTSTAMP:20260422T205718
CREATED:20200117T123213Z
LAST-MODIFIED:20200117T123213Z
UID:10000046-1582588800-1582847999@lfedge.org
SUMMARY:Embedded World
DESCRIPTION:On February 25-27\, Embedded World will welcome more than 1\,100 exhibitors\, 32\,000 trade visitors and approximately 2\,200 conference participants from 77 countries. Don’t miss LF Edge’s EdgeX Foundry presentation on Wednesday\, Feb 26 at 11:30 am – 12 pm at the Conference Counter NCC Ost. \nJim White\, CTO of IOTech and Vice Chair of the EdgeX Foundry  Technical Steering Committee\, will give a presentation titled\, “Extending EdgeX Foundry – How to Build an IoT Solution from an Open Source\, Platform Independent Framework.” Learn more here. \n  \n 
URL:https://lfedge.org/event/embedded-world/
CATEGORIES:EdgeX Foundry
END:VEVENT
END:VCALENDAR