BEGIN:VCALENDAR
VERSION:2.0
PRODID:-//LF EDGE: Building an Open Source Framework for the Edge. - ECPv6.15.20//NONSGML v1.0//EN
CALSCALE:GREGORIAN
METHOD:PUBLISH
X-ORIGINAL-URL:https://lfedge.org
X-WR-CALDESC:Events for LF EDGE: Building an Open Source Framework for the Edge.
REFRESH-INTERVAL;VALUE=DURATION:PT1H
X-Robots-Tag:noindex
X-PUBLISHED-TTL:PT1H
BEGIN:VTIMEZONE
TZID:America/Los_Angeles
BEGIN:DAYLIGHT
TZOFFSETFROM:-0800
TZOFFSETTO:-0700
TZNAME:PDT
DTSTART:20190310T100000
END:DAYLIGHT
BEGIN:STANDARD
TZOFFSETFROM:-0700
TZOFFSETTO:-0800
TZNAME:PST
DTSTART:20191103T090000
END:STANDARD
BEGIN:DAYLIGHT
TZOFFSETFROM:-0800
TZOFFSETTO:-0700
TZNAME:PDT
DTSTART:20200308T100000
END:DAYLIGHT
BEGIN:STANDARD
TZOFFSETFROM:-0700
TZOFFSETTO:-0800
TZNAME:PST
DTSTART:20201101T090000
END:STANDARD
BEGIN:DAYLIGHT
TZOFFSETFROM:-0800
TZOFFSETTO:-0700
TZNAME:PDT
DTSTART:20210314T100000
END:DAYLIGHT
BEGIN:STANDARD
TZOFFSETFROM:-0700
TZOFFSETTO:-0800
TZNAME:PST
DTSTART:20211107T090000
END:STANDARD
END:VTIMEZONE
BEGIN:VTIMEZONE
TZID:Asia/Hong_Kong
BEGIN:STANDARD
TZOFFSETFROM:+0800
TZOFFSETTO:+0800
TZNAME:HKT
DTSTART:20190101T000000
END:STANDARD
END:VTIMEZONE
BEGIN:VEVENT
DTSTART;VALUE=DATE:20200321
DTEND;VALUE=DATE:20200416
DTSTAMP:20260422T173649
CREATED:20200326T075822Z
LAST-MODIFIED:20200326T075822Z
UID:10000054-1584748800-1586995199@lfedge.org
SUMMARY:EdgeX Foundry Ideation Challenge
DESCRIPTION:Please join us for the EdgeX Foundry Ideation Challenge in partnership with Topcoder! We invite all community members to register for the virtual challenge and tell us how you would use EdgeX Foundry to solve a business problem. \nThe EdgeX framework allows IoT devices using different protocols or standards to interoperate by normalizing communication protocols\, making it available on the cloud or at an enterprise level. It also allows developers to perform complex operations\, through the use of sensor fusion using rules engines (such as Edge Analytics). \nWith Edge Computing becoming commonplace\, and with the proliferation of IoT edge devices\, by the end of February 2020\, EdgeX Foundry ™ had surpassed 3 million downloads. EdgeX Foundry ™ is built using several technologies and languages\, with a majority of the services written in Go and C. \nRegistration is open from March 21 to April 15. Submissions are due by April 16 and winners will be announced on April 19. \nIdeation Challenge Rules \nThis challenge will last 14 days after submission is open. For the first 7 days\, members can submit their initial ideas for a Checkpoint review\, that will happen 7 days after submission is open. This is an informal review that will be sent directly to the member. \nBest 5 submissions will win $50 each in the checkpoint. Checkpoint submission will end on April 9\, 2020 12:00 UTC -4. At the end of the 14 days submission period\, we will have the final review. Even if you don’t submit for the checkpoint review\, you can still submit for the final review. \nTo register for the event or to learn more\, click here: https://www.topcoder.com/challenges/30117605 \nThank you to sponsors Dell Technologies and Intel and contributing members HP\, IOTech and WiPro!
URL:https://lfedge.org/event/edgex-foundry-ideation-challenge/
CATEGORIES:EdgeX Foundry,LF Edge
END:VEVENT
BEGIN:VEVENT
DTSTART;TZID=America/Los_Angeles:20200402T100000
DTEND;TZID=America/Los_Angeles:20200402T110000
DTSTAMP:20260422T173649
CREATED:20200326T073648Z
LAST-MODIFIED:20200326T073648Z
UID:10000053-1585821600-1585825200@lfedge.org
SUMMARY:Your Path to Edge Computing with Akraino Edge Stack
DESCRIPTION:LF Edge is launching a new webinar series\, “On the Edge with LF Edge” that will feature project overviews and the opportunity for the community to ask questions. The series kicks off on April 2 with a look at Akraino Edge Stack. \nLaunched in 2018\, and now a Stage 3 (or “Impact” stage) project under the LF Edge umbrella\, Akraino Edge Stack is creating an open source software stack that supports a high-availability cloud stack optimized for edge computing systems and applications. Designed to improve the state of edge cloud infrastructure for enterprise edge\, over-the-top (OTT) edge\, and carrier edge networks\, it offers users new levels of flexibility to scale edge cloud services quickly\, to maximize the applications and functions supported at the edge\, and to help ensure the reliability of systems that must be up at all times.  \nBefore Akraino\, developers had to download multiple open source software packages and integrate/test on deployable hardware\, which prolonged innovation and increased cost. The Akraino technical community is dedicated to changing that and developer a way to solve this integration challenge with Blueprints\, real code that brings everything together so users can download and deploy the edge stack in their own environment to address a specific edge use case. \nIn this webinar\, you’ll learn:  \n\n Introduction to Akraino and it’s R2 blueprints\n How Akraino community is ensuring the quality of the blueprints\n How to engage and contribute to the Akraino Community\n\nRegister for the webinar here: https://zoom.us/webinar/register/4515850788014/WN_Zjdo4-5fTQSIqH7pL8iHrQ \nSpeakers:  \nKandan Kathirvel\, Chair of Akraino’s Technical Steering Committee\, and  Director at AT&T and responsible for AT&T’s Cloud Strategy and Architecture. \nTapio Tallgren\, Chair of Akraino’s Community Sub-Committee\, and Technical Leader at Nokia Mobile Networks.
URL:https://lfedge.org/event/your-path-to-edge-computing-with-akraino-edge-stack/
CATEGORIES:Akraino,LF Edge
END:VEVENT
BEGIN:VEVENT
DTSTART;TZID=America/Los_Angeles:20200423T090000
DTEND;TZID=America/Los_Angeles:20200423T100000
DTSTAMP:20260422T173649
CREATED:20200406T162233Z
LAST-MODIFIED:20200406T162233Z
UID:10000055-1587632400-1587636000@lfedge.org
SUMMARY:EdgeX Foundry 101: Introduction\, Roadmap and Use Cases (webinar)
DESCRIPTION:LF Edge is launched a new webinar series\, “On the Edge with LF Edge” that will feature project overviews and the opportunity for the community to ask questions. Join us on Thursday\, April 23 at 9 am PDT/12 pm EDT for a deeper dive into EdgeX Foundry. \nLaunched in 2017\, EdgeX Foundry is the preferred open source framework to collect\, standardize and share data from devices and applications at the edge.  It is currently a stage 3 or “Impact” project under the LF Edge umbrella and is preparing for it’s 6th release. The project is home of a rapidly growing community of developers and vendors working together to reduce the complexity and the time to market by providing modular easy to scale reference services in support of new IoT data services and advanced edge computing applications. \nEdgeX Foundry provides developers and technology vendors with a common set of horizontal capabilities to support use cases across any IOT vertical with a consistent foundation for security and manageability. Also\, the EdgeX microservices framework will enable end users to liberate their data from silos and let them use it where they want it (at Edge with device/apps services and/or Cloud with Cloud/Enterprise endpoints) to improve business results.  It will enable autonomous operations and intelligence moving to the edge and use your data for decision making/actuation\, bandwidth and storage. \nIn this webinar\, you’ll learn: \n\nProject Introduction – From humble beginnings to current project momentum\nEdgeX Releases – Cadence\, planning meetings\, latest version and what is coming\nEdgeX Use Cases – Retail use case from Intel\, HP\, IoTech and a use case from Wipro\n\nSpeakers: \n\nJim White\, CTO of IoTech and Vice Chair of the EdgeX Foundry TSC\nCamilo Dennis\, Global Marketing Strategist for IoT at Intel and Co-Chair of the EdgeX Foundry Vertical Solutions Working Group\nNaga Shanmugam\,  Program Manager for Wipro and EdgeX Foundry contributor\n\nRegister for the webinar\, please click here: https://zoom.us/webinar/register/4515850788014/WN_xCd6YPjEQrCwLiFhBWPKug
URL:https://lfedge.org/event/webinar-getting-lean-and-distributed-at-the-edge-with-edgex-foundry/
CATEGORIES:EdgeX Foundry
END:VEVENT
BEGIN:VEVENT
DTSTART;TZID=Asia/Hong_Kong:20200424T140000
DTEND;TZID=Asia/Hong_Kong:20200424T180000
DTSTAMP:20260422T173649
CREATED:20200418T090146Z
LAST-MODIFIED:20200418T090146Z
UID:10000058-1587736800-1587751200@lfedge.org
SUMMARY:EdgeX Foundry Virtual China Meetup
DESCRIPTION:EdgeX Foundry contributor VMware is hosting an EdgeX Foundry Online Meetup in Beijing\, Shanghai on April 24. At 2pm CST\, the community is invited to join the webinar and learn more about the EdgeX Framework\, applications and current use cases. Leaders from VMware\, the Linux Foundation\, Intel\, IoTech\, EMQ\, H3C\, Thundersoft and JD Retail Group will share updates and answer questions at the meetup. \nThe agenda is below. You must register to participate in the webinar. Register here: https://VMware.zoom.us/webinar/register/WN_erHVaGxrTMqU5RNdKMR_yw \n  \n\n\n\nTime\n时间\nTopic\n主题\nSpeaker\n演讲嘉宾\n\n\n14:00\n14:15\nWelcome opening\nAlan Ren\nGM of VMware China R&D\n\n\n14:15\n14:30\nWelcome opening\nXuan Yang\nDirector of Greater China\, Linux Foundation\n\n\n14:30\n15:00\nEdgeX application case sharing in the business field\nMelvin Sun\nSenior Business Development Manager\, Intel (China)\n\n\n15:00\n15:30\nEdgeX device auto-discovery design and implementation\nCloud Tsai\nTechnical Director\, IoTech\n\n\n15:30\n16:00\nIntroduction to the EdgeX Geneva rule engine — ultra-lightweight IoT streaming data processing based on EMQ X Kuiper\nRocky Jin\nVP of EMQ Products\n\n\n16:00\n16:30\nEdge computing platform based on EdgeX and cloud native technology\nJingjing Li\nHyper-Converged Edge Computing Architect\, H3C\n\n\n16:30\n17:00\nInterconnection between EdgeX edge computing architecture and ROS2 robot operating system\nGavin Zhang\nProduct Manager of Thundersoft\n\n\n17:00\n17:30\nEdgeX UI improvements in Geneva version\nLibin Zhang\nSoftware Engineer\, VMware China R&DShengqi Wang\nSoftware Engineer\, VMware China R&D\n\n\n17:30\n18:00\nThe practice of edge computing solutions in offline stores\nRan Zhang\nAlgorithm Architect\, JD Retail Group\nHuaiyuan Yang\nArchitect\, JD Retail Group
URL:https://lfedge.org/event/edgex-foundry-virtual-china-meetup/
CATEGORIES:EdgeX Foundry
END:VEVENT
BEGIN:VEVENT
DTSTART;VALUE=DATE:20200427
DTEND;VALUE=DATE:20200502
DTSTAMP:20260422T173649
CREATED:20200117T132248Z
LAST-MODIFIED:20200117T132248Z
UID:10000048-1587945600-1588377599@lfedge.org
SUMMARY:EdgeX Foundry TSC Virtual F2F - Hanoi Release
DESCRIPTION:LF Edge’s EdgeX Foundry will be hosting a virtual F2F on April 27-May 1. The community is invited to learn more about project updates\, architecture roadmap and training. \nLearn more here: https://wiki.edgexfoundry.org/pages/viewpage.action?pageId=37912800 \nRegister here: https://www.cvent.com/events/edgex-foundry-tsc-hanoi-release-face-to-face/registration-4a63426437ef4163b02cac03e1a6967e.aspx?fqp=true \nIf you have questions\, please find us on Slack: https://slack.edgexfoundry.org/
URL:https://lfedge.org/event/edgex-foundry-tsc-f2f-hanoi-release/
CATEGORIES:EdgeX Foundry
END:VEVENT
BEGIN:VEVENT
DTSTART;TZID=America/Los_Angeles:20200430T090000
DTEND;TZID=America/Los_Angeles:20200430T100000
DTSTAMP:20260422T173649
CREATED:20200417T153636Z
LAST-MODIFIED:20200417T153636Z
UID:10000056-1588237200-1588240800@lfedge.org
SUMMARY:Webinar: The State of Open Source Networking & the Edge
DESCRIPTION:Much has evolved since the fall of last year in the open source networking and edge landscapes and it’s time for an update! Due to the COVID-19 outbreak\, the Open Networking & Edge Summit North America has been rescheduled for the fall\, September 28 – 29\, in Los Angeles. But we didn’t want to miss this opportunity to engage with our communities and ecosystems at large. \nIn this webinar\, Arpit Joshipura\, GM\, Networking\, Edge\, and IoT will walk through the state of open source networking & the edge\, and provide updates on critical industry initiatives such as EdgeX Foundry’s virtual hackathons\, Google’s activities with Fledge\, new projects and more. This is also your chance to be the first to hear the major LF Networking and LF Edge announcements for the spring. Attendees are encouraged to engage with us and we’ll leave time at the end for Q&A. \nNote: You must be signed in to Zoom to attend the web meeting. \nRegister here: https://zoom.us/webinar/register/WN_pt6VgEy2S46T6qW5oNRLPA
URL:https://lfedge.org/event/webinar-the-state-of-open-source-networking-the-edge/
CATEGORIES:LF Edge
END:VEVENT
END:VCALENDAR