BEGIN:VCALENDAR
VERSION:2.0
PRODID:-//LF EDGE: Building an Open Source Framework for the Edge. - ECPv6.15.20//NONSGML v1.0//EN
CALSCALE:GREGORIAN
METHOD:PUBLISH
X-WR-CALNAME:LF EDGE: Building an Open Source Framework for the Edge.
X-ORIGINAL-URL:https://lfedge.org
X-WR-CALDESC:Events for LF EDGE: Building an Open Source Framework for the Edge.
REFRESH-INTERVAL;VALUE=DURATION:PT1H
X-Robots-Tag:noindex
X-PUBLISHED-TTL:PT1H
BEGIN:VTIMEZONE
TZID:America/Los_Angeles
BEGIN:DAYLIGHT
TZOFFSETFROM:-0800
TZOFFSETTO:-0700
TZNAME:PDT
DTSTART:20190310T100000
END:DAYLIGHT
BEGIN:STANDARD
TZOFFSETFROM:-0700
TZOFFSETTO:-0800
TZNAME:PST
DTSTART:20191103T090000
END:STANDARD
BEGIN:DAYLIGHT
TZOFFSETFROM:-0800
TZOFFSETTO:-0700
TZNAME:PDT
DTSTART:20200308T100000
END:DAYLIGHT
BEGIN:STANDARD
TZOFFSETFROM:-0700
TZOFFSETTO:-0800
TZNAME:PST
DTSTART:20201101T090000
END:STANDARD
BEGIN:DAYLIGHT
TZOFFSETFROM:-0800
TZOFFSETTO:-0700
TZNAME:PDT
DTSTART:20210314T100000
END:DAYLIGHT
BEGIN:STANDARD
TZOFFSETFROM:-0700
TZOFFSETTO:-0800
TZNAME:PST
DTSTART:20211107T090000
END:STANDARD
END:VTIMEZONE
BEGIN:VTIMEZONE
TZID:Asia/Tokyo
BEGIN:STANDARD
TZOFFSETFROM:+0900
TZOFFSETTO:+0900
TZNAME:JST
DTSTART:20190101T000000
END:STANDARD
END:VTIMEZONE
BEGIN:VEVENT
DTSTART;VALUE=DATE:20200427
DTEND;VALUE=DATE:20200502
DTSTAMP:20260422T173346
CREATED:20200117T132248Z
LAST-MODIFIED:20200117T132248Z
UID:10000048-1587945600-1588377599@lfedge.org
SUMMARY:EdgeX Foundry TSC Virtual F2F - Hanoi Release
DESCRIPTION:LF Edge’s EdgeX Foundry will be hosting a virtual F2F on April 27-May 1. The community is invited to learn more about project updates\, architecture roadmap and training. \nLearn more here: https://wiki.edgexfoundry.org/pages/viewpage.action?pageId=37912800 \nRegister here: https://www.cvent.com/events/edgex-foundry-tsc-hanoi-release-face-to-face/registration-4a63426437ef4163b02cac03e1a6967e.aspx?fqp=true \nIf you have questions\, please find us on Slack: https://slack.edgexfoundry.org/
URL:https://lfedge.org/event/edgex-foundry-tsc-f2f-hanoi-release/
CATEGORIES:EdgeX Foundry
END:VEVENT
BEGIN:VEVENT
DTSTART;VALUE=DATE:20200512
DTEND;VALUE=DATE:20200514
DTSTAMP:20260422T173346
CREATED:20200503T093921Z
LAST-MODIFIED:20200503T093921Z
UID:10000059-1589241600-1589414399@lfedge.org
SUMMARY:RedisConf2020
DESCRIPTION:LF Edge’s EdgeX Foundry project will be featured at the RedisConf2020 Takaway event\, which takes place virtually on May 12-13. On-demand training and sessions will enable you to learn at your convenience\, while live interaction with speakers and other virtual attendees will give you an opportunity to ask questions and connect with Redis users worldwide. On May 12\, EdgeX Foundry leaders Malini Bhandaru\, Co-Chair of the Security Working Group\, and Anthony Bonafide\, a Member of the Technical Steering Committee\, will present \nCharging Towards the Smart Grid via EdgeX & Redis\, Malini Bhandaru\, VMware Open Source Technology Center \nThe (electric) grid\, composed of substations\, transmission lines\, transformers\, and more\, delivers electricity from power plants to homes and businesses. Its transformation to a Smart Grid requires both real time sensing of energy production and consumption to anticipate needs and the ability to control\, to smooth load peaks. Smoothing may involve curtailing use and/or bringing online cleaner renewable distributed energy sources. In this talk we explore how the open source project EdgeX Foundry with Redis for data persistence can be leveraged to deliver a secure\, extensible\, IoT/Edge solution to meet the needs of the smart grid while handling data locally to preserve data and also reducing network bandwidth needs. We will share details of VMware’s micro-grid proof-of-concept that covers electric vehicle charging. \nRedisEdgeX\, Anthony Bonafide\, Dell Technologies \nThis talk will discuss how EdgeX Foundry—a leading open source IoT management and orchestration platform—replaced their default persistence layer with Redis. EdgeX Foundry has also integrated with Redis Streams for pub/sub functionality. We will show how Redis was integrated with EdgeX in these two areas and compare performance and footprint stats with the previous default providers Mongo and ZeroMQ. \nLearn more about the event here: https://events.redislabs.com/redisconf20/
URL:https://lfedge.org/event/redisconf2020/
CATEGORIES:EdgeX Foundry
END:VEVENT
BEGIN:VEVENT
DTSTART;TZID=Asia/Tokyo:20200512T170000
DTEND;TZID=Asia/Tokyo:20200512T183000
DTSTAMP:20260422T173346
CREATED:20200417T155502Z
LAST-MODIFIED:20200417T155502Z
UID:10000057-1589302800-1589308200@lfedge.org
SUMMARY:EdgeX Foundry Tokyo Virtual Meetup
DESCRIPTION:LF Edge’s EdgeX Foundry will be hosting virtual Tokyo meetup on May 12. Members from The Linux Foundation\, Dell EMC Japan and more will provide insight into EdgeX’s Geneva release\, recent use cases and will lead a hands-on tutorial. (The content will be provided in Japanese). Please join us at 5 – 6:30 pm JST. \nAgenda: \n17:00 Introduction \nThe Linux Foundation\, Mr. Noriaki Fukuyasu \n17:05 Introduction of Geneva Release + Recent Cases\nDell EMC Japan\, Mr. Jonas Werner  \n17:15 Hands-on session\nMr. Yuki Tanaka \n18:30 End \nThis webinar is open to all but you must be registered to attend. \nTo register\, click here: https://zoom.us/webinar/register/WN_9H49FrWZQxGiX-4brOCBNQ \nFor more information: https://www.meetup.com/ja-JP/EdgeX-Foundry-Tokyo/events/269968576/
URL:https://lfedge.org/event/edgex-foundry-tokyo-virtual-meetup/
CATEGORIES:EdgeX Foundry
END:VEVENT
BEGIN:VEVENT
DTSTART;TZID=America/Los_Angeles:20200529T083000
DTEND;TZID=America/Los_Angeles:20200529T093000
DTSTAMP:20260422T173346
CREATED:20200117T112630Z
LAST-MODIFIED:20200117T112630Z
UID:10000045-1590741000-1590744600@lfedge.org
SUMMARY:Project EVE Office Hours
DESCRIPTION:  \n \nWant to know more about LF Edge’s Project EVE? Join us for office hour meetings on Thursday / Fridays or the TSC meetings once a month. \nTimes (based upon US Pacific time): \n\nUS/Europe Friendly- 0830 Pacific/ 1730 CET/ 2100 Bangalore\nAsia Friendly- 10:00 PM (2200)/ 0730 CET (Friday)/ 1030 Bangalore (Friday)\n\n  \n \n\nDirections how to join:\nJoin Zoom Meeting\nhttps://zoom.us/j/7254733171 \nOne tap mobile\n+16699006833\,\,7254733171# US (San Jose)\n+16465588656\,\,7254733171# US (New York) \nDial by your location\n+1 669 900 6833 US (San Jose)\n+1 646 558 8656 US (New York)\n877 369 0926 US Toll-free\n855 880 1246 US Toll-free\n+1 647 558 0588 Canada\n855 703 8985 Canada Toll-free\nMeeting ID: 7254733171\nFind your local number: https://zoom.us/u/adELDV92sh \n\n\n\n\nTo learn more or to add a topic to the agenda\, click here: https://wiki.lfedge.org/display/EVE/Contact+the+Project+EVE+Community
URL:https://lfedge.org/event/project-eve-office-hours/
CATEGORIES:Project EVE
END:VEVENT
BEGIN:VEVENT
DTSTART;TZID=America/Los_Angeles:20200529T090000
DTEND;TZID=America/Los_Angeles:20200529T100000
DTSTAMP:20260422T173346
CREATED:20200511T102318Z
LAST-MODIFIED:20200511T102318Z
UID:10000061-1590742800-1590746400@lfedge.org
SUMMARY:(Webinar) Project EVE: Building the “Android of the IoT Edge”
DESCRIPTION:LF Edge’s Project EVE is an edge computing engine that aims to do for the IoT edge what Android did for mobile by enabling the development\, orchestration and security of cloud-native and legacy applications on distributed edge compute nodes. Supporting containers\, clusters VMs and unikernels\, it provides a flexible foundation for IoT edge deployments with a choice of hardware\, applications and clouds. \nZEDEDA’s Roman Shaposhnik\, Co-founder and VP of Product and Strategy\, and Jason Shepherd\, VP of Ecosystem\, will present how Project EVE fits into the LF Edge framework\, what’s new in the EVE community (including planned support for containers and Kubernetes)\, how we’re collaborating with other LF Edge projects and example use cases. \nYou must be registered to attend this event. Register here: https://zoom.us/webinar/register/6415888722675/WN_35oZJ3hrQE69snMaiJUTPg \n 
URL:https://lfedge.org/event/webinar-project-eve-building-the-android-of-the-iot-edge/
CATEGORIES:LF Edge,Project EVE
END:VEVENT
END:VCALENDAR